BEGIN:VCALENDAR
VERSION:2.0
PRODID:-//spbstu.ru//ical//RU
NAME:Расписание
X-WR-CALNAME:Расписание
TIMEZONE-ID:Europe/Moscow
X-WR-TIMEZONE:Europe/Moscow
BEGIN:VEVENT
UID:82nb@192.168.245.71:3006
SEQUENCE:0
DTSTAMP:20260420T221626Z
DTSTART:20260420T090000Z
DTEND:20260420T104000Z
SUMMARY:Специальные главы физики
LOCATION:ГЗ 184
END:VEVENT
BEGIN:VEVENT
UID:vqeh@192.168.245.71:3006
SEQUENCE:0
DTSTAMP:20260420T221626Z
DTSTART:20260420T110000Z
DTEND:20260420T124000Z
SUMMARY:Специальные главы физики
LOCATION:ГЗ 184
END:VEVENT
BEGIN:VEVENT
UID:5pug@192.168.245.71:3006
SEQUENCE:0
DTSTAMP:20260420T221626Z
DTSTART:20260420T130000Z
DTEND:20260420T144000Z
SUMMARY:Физика
LOCATION:ГЗ 186 А
END:VEVENT
END:VCALENDAR