BEGIN:VCALENDAR
VERSION:2.0
PRODID:-//spbstu.ru//ical//RU
NAME:Расписание
X-WR-CALNAME:Расписание
TIMEZONE-ID:Europe/Moscow
X-WR-TIMEZONE:Europe/Moscow
BEGIN:VEVENT
UID:036e@192.168.245.71:3006
SEQUENCE:0
DTSTAMP:20260422T115725Z
DTSTART:20251201T070000Z
DTEND:20251201T084000Z
SUMMARY:Современные конструкционные материалы
LOCATION:ГЗ 57
END:VEVENT
BEGIN:VEVENT
UID:v47j@192.168.245.71:3006
SEQUENCE:0
DTSTAMP:20260422T115725Z
DTSTART:20251201T090000Z
DTEND:20251201T104000Z
SUMMARY:Современные конструкционные материалы
LOCATION:ГЗ 57
END:VEVENT
BEGIN:VEVENT
UID:98le@192.168.245.71:3006
SEQUENCE:0
DTSTAMP:20260422T115725Z
DTSTART:20251201T110000Z
DTEND:20251201T124000Z
SUMMARY:Современные конструкционные материалы
LOCATION:ГЗ 57
END:VEVENT
BEGIN:VEVENT
UID:i0q2@192.168.245.71:3006
SEQUENCE:0
DTSTAMP:20260422T115725Z
DTSTART:20251201T130000Z
DTEND:20251201T144000Z
SUMMARY:Современные конструкционные материалы
LOCATION:ГЗ 57
END:VEVENT
BEGIN:VEVENT
UID:lxjg@192.168.245.71:3006
SEQUENCE:0
DTSTAMP:20260422T115725Z
DTSTART:20251202T090000Z
DTEND:20251202T104000Z
SUMMARY:Материаловедение
LOCATION:ГЗ 57
END:VEVENT
BEGIN:VEVENT
UID:6jpc@192.168.245.71:3006
SEQUENCE:0
DTSTAMP:20260422T115725Z
DTSTART:20251202T110000Z
DTEND:20251202T124000Z
SUMMARY:Материаловедение
LOCATION:ГЗ каф.ТКМ к.57
END:VEVENT
BEGIN:VEVENT
UID:gywf@192.168.245.71:3006
SEQUENCE:0
DTSTAMP:20260422T115725Z
DTSTART:20251202T110000Z
DTEND:20251202T124000Z
SUMMARY:Материаловедение
LOCATION:ГЗ 57
END:VEVENT
BEGIN:VEVENT
UID:751g@192.168.245.71:3006
SEQUENCE:0
DTSTAMP:20260422T115725Z
DTSTART:20251202T130000Z
DTEND:20251202T144000Z
SUMMARY:Материаловедение
LOCATION:ГЗ 57
END:VEVENT
BEGIN:VEVENT
UID:a7vs@192.168.245.71:3006
SEQUENCE:0
DTSTAMP:20260422T115725Z
DTSTART:20251203T070000Z
DTEND:20251203T084000Z
SUMMARY:Материаловедение
LOCATION:ГЗ 57
END:VEVENT
BEGIN:VEVENT
UID:0jzs@192.168.245.71:3006
SEQUENCE:0
DTSTAMP:20260422T115725Z
DTSTART:20251203T090000Z
DTEND:20251203T104000Z
SUMMARY:Современные конструкционные материалы
LOCATION:ГЗ 57
END:VEVENT
BEGIN:VEVENT
UID:yx78@192.168.245.71:3006
SEQUENCE:0
DTSTAMP:20260422T115725Z
DTSTART:20251204T090000Z
DTEND:20251204T104000Z
SUMMARY:Материаловедение
LOCATION:ГЗ 57
END:VEVENT
BEGIN:VEVENT
UID:y9ni@192.168.245.71:3006
SEQUENCE:0
DTSTAMP:20260422T115725Z
DTSTART:20251205T110000Z
DTEND:20251205T124000Z
SUMMARY:Материаловедение
LOCATION:ГЗ 57
END:VEVENT
BEGIN:VEVENT
UID:4zyl@192.168.245.71:3006
SEQUENCE:0
DTSTAMP:20260422T115725Z
DTSTART:20251205T130000Z
DTEND:20251205T144000Z
SUMMARY:Материаловедение
LOCATION:ГЗ 57
END:VEVENT
END:VCALENDAR