BEGIN:VCALENDAR
VERSION:2.0
PRODID:-//spbstu.ru//ical//RU
NAME:Расписание
X-WR-CALNAME:Расписание
TIMEZONE-ID:Europe/Moscow
X-WR-TIMEZONE:Europe/Moscow
BEGIN:VEVENT
UID:cy0f@192.168.245.71:3006
SEQUENCE:0
DTSTAMP:20260423T062924Z
DTSTART:20250922T070000Z
DTEND:20250922T084000Z
SUMMARY:Современные конструкционные материалы
LOCATION:ГЗ 57
END:VEVENT
BEGIN:VEVENT
UID:lxoq@192.168.245.71:3006
SEQUENCE:0
DTSTAMP:20260423T062924Z
DTSTART:20250922T090000Z
DTEND:20250922T104000Z
SUMMARY:Современные конструкционные материалы
LOCATION:ГЗ 57
END:VEVENT
BEGIN:VEVENT
UID:3e9h@192.168.245.71:3006
SEQUENCE:0
DTSTAMP:20260423T062924Z
DTSTART:20250922T110000Z
DTEND:20250922T124000Z
SUMMARY:Современные конструкционные материалы
LOCATION:ГЗ 57
END:VEVENT
BEGIN:VEVENT
UID:ux74@192.168.245.71:3006
SEQUENCE:0
DTSTAMP:20260423T062924Z
DTSTART:20250922T130000Z
DTEND:20250922T144000Z
SUMMARY:Современные конструкционные материалы
LOCATION:ГЗ 57
END:VEVENT
BEGIN:VEVENT
UID:ktv3@192.168.245.71:3006
SEQUENCE:0
DTSTAMP:20260423T062924Z
DTSTART:20250923T090000Z
DTEND:20250923T104000Z
SUMMARY:Материаловедение
LOCATION:ГЗ 57
END:VEVENT
BEGIN:VEVENT
UID:ylny@192.168.245.71:3006
SEQUENCE:0
DTSTAMP:20260423T062924Z
DTSTART:20250923T110000Z
DTEND:20250923T124000Z
SUMMARY:Материаловедение
LOCATION:ГЗ каф.ТКМ к.57
END:VEVENT
BEGIN:VEVENT
UID:9xfu@192.168.245.71:3006
SEQUENCE:0
DTSTAMP:20260423T062924Z
DTSTART:20250923T110000Z
DTEND:20250923T124000Z
SUMMARY:Материаловедение
LOCATION:ГЗ 57
END:VEVENT
BEGIN:VEVENT
UID:qah7@192.168.245.71:3006
SEQUENCE:0
DTSTAMP:20260423T062924Z
DTSTART:20250923T130000Z
DTEND:20250923T144000Z
SUMMARY:Материаловедение
LOCATION:ГЗ 57
END:VEVENT
BEGIN:VEVENT
UID:v5fj@192.168.245.71:3006
SEQUENCE:0
DTSTAMP:20260423T062924Z
DTSTART:20250924T070000Z
DTEND:20250924T084000Z
SUMMARY:Материаловедение
LOCATION:ГЗ 57
END:VEVENT
BEGIN:VEVENT
UID:qvnr@192.168.245.71:3006
SEQUENCE:0
DTSTAMP:20260423T062924Z
DTSTART:20250925T090000Z
DTEND:20250925T104000Z
SUMMARY:Материаловедение
LOCATION:ГЗ 57
END:VEVENT
BEGIN:VEVENT
UID:nefg@192.168.245.71:3006
SEQUENCE:0
DTSTAMP:20260423T062924Z
DTSTART:20250926T110000Z
DTEND:20250926T124000Z
SUMMARY:Материаловедение
LOCATION:ГЗ 57
END:VEVENT
BEGIN:VEVENT
UID:tptd@192.168.245.71:3006
SEQUENCE:0
DTSTAMP:20260423T062924Z
DTSTART:20250926T130000Z
DTEND:20250926T144000Z
SUMMARY:Материаловедение
LOCATION:ГЗ 57
END:VEVENT
END:VCALENDAR