BEGIN:VCALENDAR
VERSION:2.0
PRODID:-//spbstu.ru//ical//RU
NAME:Расписание
X-WR-CALNAME:Расписание
TIMEZONE-ID:Europe/Moscow
X-WR-TIMEZONE:Europe/Moscow
BEGIN:VEVENT
UID:u42a@192.168.245.71:3006
SEQUENCE:0
DTSTAMP:20260421T224856Z
DTSTART:20260112T070000Z
DTEND:20260112T074500Z
SUMMARY:Современные конструкционные материалы
LOCATION:ГЗ 57
END:VEVENT
BEGIN:VEVENT
UID:kp68@192.168.245.71:3006
SEQUENCE:0
DTSTAMP:20260421T224856Z
DTSTART:20260113T070000Z
DTEND:20260113T110000Z
SUMMARY:Современные конструкционные материалы
LOCATION:ГЗ 57
END:VEVENT
END:VCALENDAR