BEGIN:VCALENDAR
VERSION:2.0
PRODID:-//spbstu.ru//ical//RU
NAME:Расписание
X-WR-CALNAME:Расписание
TIMEZONE-ID:Europe/Moscow
X-WR-TIMEZONE:Europe/Moscow
BEGIN:VEVENT
UID:i8c9@192.168.245.71:3006
SEQUENCE:0
DTSTAMP:20260424T163634Z
DTSTART:20251014T090000Z
DTEND:20251014T104000Z
SUMMARY:Сопротивление материалов
LOCATION:ГЗ 215
END:VEVENT
BEGIN:VEVENT
UID:3ubu@192.168.245.71:3006
SEQUENCE:0
DTSTAMP:20260424T163634Z
DTSTART:20251015T090000Z
DTEND:20251015T104000Z
SUMMARY:Сопротивление материалов
LOCATION:ГК-2 301а
END:VEVENT
BEGIN:VEVENT
UID:ii7w@192.168.245.71:3006
SEQUENCE:0
DTSTAMP:20260424T163634Z
DTSTART:20251015T150000Z
DTEND:20251015T164000Z
SUMMARY:Сопротивление материалов
LOCATION:ГК-2 407
END:VEVENT
BEGIN:VEVENT
UID:br69@192.168.245.71:3006
SEQUENCE:0
DTSTAMP:20260424T163634Z
DTSTART:20251017T090000Z
DTEND:20251017T104000Z
SUMMARY:Сопротивление материалов
LOCATION:ГК-2 401
END:VEVENT
END:VCALENDAR