BEGIN:VCALENDAR
VERSION:2.0
PRODID:-//spbstu.ru//ical//RU
NAME:Расписание
X-WR-CALNAME:Расписание
TIMEZONE-ID:Europe/Moscow
X-WR-TIMEZONE:Europe/Moscow
BEGIN:VEVENT
UID:ho9z@192.168.245.71:3006
SEQUENCE:0
DTSTAMP:20260422T110721Z
DTSTART:20260224T090000Z
DTEND:20260224T104000Z
SUMMARY:Сопротивление материалов
LOCATION:ГЗ 215
END:VEVENT
BEGIN:VEVENT
UID:8x37@192.168.245.71:3006
SEQUENCE:0
DTSTAMP:20260422T110721Z
DTSTART:20260225T090000Z
DTEND:20260225T104000Z
SUMMARY:Сопротивление материалов
LOCATION:ГК-2 315
END:VEVENT
BEGIN:VEVENT
UID:4crg@192.168.245.71:3006
SEQUENCE:0
DTSTAMP:20260422T110721Z
DTSTART:20260225T110000Z
DTEND:20260225T124000Z
SUMMARY:Сопротивление материалов
LOCATION:ГК-2 503
END:VEVENT
BEGIN:VEVENT
UID:b09h@192.168.245.71:3006
SEQUENCE:0
DTSTAMP:20260422T110721Z
DTSTART:20260227T110000Z
DTEND:20260227T124000Z
SUMMARY:Сопротивление материалов
LOCATION:ГК-2 503
END:VEVENT
END:VCALENDAR