BEGIN:VCALENDAR
VERSION:2.0
PRODID:-//spbstu.ru//ical//RU
NAME:Расписание
X-WR-CALNAME:Расписание
TIMEZONE-ID:Europe/Moscow
X-WR-TIMEZONE:Europe/Moscow
BEGIN:VEVENT
UID:xmel@192.168.245.71:3006
SEQUENCE:0
DTSTAMP:20260422T140809Z
DTSTART:20260210T090000Z
DTEND:20260210T104000Z
SUMMARY:Сопротивление материалов
LOCATION:ГЗ 215
END:VEVENT
BEGIN:VEVENT
UID:zfdg@192.168.245.71:3006
SEQUENCE:0
DTSTAMP:20260422T140809Z
DTSTART:20260211T090000Z
DTEND:20260211T104000Z
SUMMARY:Сопротивление материалов
LOCATION:ГК-2 315
END:VEVENT
BEGIN:VEVENT
UID:6247@192.168.245.71:3006
SEQUENCE:0
DTSTAMP:20260422T140809Z
DTSTART:20260211T110000Z
DTEND:20260211T124000Z
SUMMARY:Сопротивление материалов
LOCATION:ГК-2 503
END:VEVENT
BEGIN:VEVENT
UID:f7ri@192.168.245.71:3006
SEQUENCE:0
DTSTAMP:20260422T140809Z
DTSTART:20260213T110000Z
DTEND:20260213T124000Z
SUMMARY:Сопротивление материалов
LOCATION:ГК-2 503
END:VEVENT
END:VCALENDAR