BEGIN:VCALENDAR
VERSION:2.0
PRODID:-//spbstu.ru//ical//RU
NAME:Расписание
X-WR-CALNAME:Расписание
TIMEZONE-ID:Europe/Moscow
X-WR-TIMEZONE:Europe/Moscow
BEGIN:VEVENT
UID:2twg@192.168.245.71:3006
SEQUENCE:0
DTSTAMP:20260424T233556Z
DTSTART:20250929T090000Z
DTEND:20250929T104000Z
SUMMARY:Администрирование информационных систем
LOCATION:3 к. 506
END:VEVENT
BEGIN:VEVENT
UID:mvfn@192.168.245.71:3006
SEQUENCE:0
DTSTAMP:20260424T233556Z
DTSTART:20250929T110000Z
DTEND:20250929T124000Z
SUMMARY:Администрирование информационных систем
LOCATION:3 к. 506
END:VEVENT
BEGIN:VEVENT
UID:yuxj@192.168.245.71:3006
SEQUENCE:0
DTSTAMP:20260424T233556Z
DTSTART:20251002T090000Z
DTEND:20251002T104000Z
SUMMARY:Отказоустойчивость и надежность информационных систем
LOCATION:9 к. 113
END:VEVENT
BEGIN:VEVENT
UID:25rw@192.168.245.71:3006
SEQUENCE:0
DTSTAMP:20260424T233556Z
DTSTART:20251002T110000Z
DTEND:20251002T124000Z
SUMMARY:Введение в профессиональную деятельность
LOCATION:9 к. 137
END:VEVENT
BEGIN:VEVENT
UID:lskr@192.168.245.71:3006
SEQUENCE:0
DTSTAMP:20260424T233556Z
DTSTART:20251002T130000Z
DTEND:20251002T144000Z
SUMMARY:Введение в профессиональную деятельность
LOCATION:9 к. 137
END:VEVENT
END:VCALENDAR