BEGIN:VCALENDAR
VERSION:2.0
PRODID:-//spbstu.ru//ical//RU
NAME:Расписание
X-WR-CALNAME:Расписание
TIMEZONE-ID:Europe/Moscow
X-WR-TIMEZONE:Europe/Moscow
BEGIN:VEVENT
UID:n1xc@192.168.245.71:3006
SEQUENCE:0
DTSTAMP:20260422T140717Z
DTSTART:20260211T130000Z
DTEND:20260211T144000Z
SUMMARY:Отказоустойчивость и надежность информационных систем
LOCATION:3 к. 505
END:VEVENT
BEGIN:VEVENT
UID:jkwd@192.168.245.71:3006
SEQUENCE:0
DTSTAMP:20260422T140717Z
DTSTART:20260211T150000Z
DTEND:20260211T164000Z
SUMMARY:Администрирование в информационных системах
LOCATION:3 к. 506
END:VEVENT
END:VCALENDAR