BEGIN:VCALENDAR
VERSION:2.0
PRODID:-//spbstu.ru//ical//RU
NAME:Расписание
X-WR-CALNAME:Расписание
TIMEZONE-ID:Europe/Moscow
X-WR-TIMEZONE:Europe/Moscow
BEGIN:VEVENT
UID:g4gz@192.168.245.71:3006
SEQUENCE:0
DTSTAMP:20260421T114624Z
DTSTART:20260420T070000Z
DTEND:20260420T130000Z
SUMMARY:Теория автоматического управления
LOCATION:DL Дистанционно
END:VEVENT
BEGIN:VEVENT
UID:i7h5@192.168.245.71:3006
SEQUENCE:0
DTSTAMP:20260421T114624Z
DTSTART:20260421T130000Z
DTEND:20260421T144000Z
SUMMARY:Теория автоматического управления
LOCATION:DL Дистанционно
END:VEVENT
BEGIN:VEVENT
UID:0qb1@192.168.245.71:3006
SEQUENCE:0
DTSTAMP:20260421T114624Z
DTSTART:20260422T130000Z
DTEND:20260422T144000Z
SUMMARY:Отказоустойчивость и надежность информационных систем
LOCATION:3 к. 505
END:VEVENT
END:VCALENDAR