BEGIN:VCALENDAR
VERSION:2.0
PRODID:-//spbstu.ru//ical//RU
NAME:Расписание
X-WR-CALNAME:Расписание
TIMEZONE-ID:Europe/Moscow
X-WR-TIMEZONE:Europe/Moscow
BEGIN:VEVENT
UID:5oqs@192.168.245.71:3006
SEQUENCE:0
DTSTAMP:20260421T122830Z
DTSTART:20260504T090000Z
DTEND:20260504T104000Z
SUMMARY:Специальные транспортные машины
LOCATION:ГЗ каф.ТТС
END:VEVENT
BEGIN:VEVENT
UID:wp3e@192.168.245.71:3006
SEQUENCE:0
DTSTAMP:20260421T122830Z
DTSTART:20260507T130000Z
DTEND:20260507T144000Z
SUMMARY:Проектно-исследовательская деятельность
LOCATION:ГЗ каф.ТТС
END:VEVENT
END:VCALENDAR