BEGIN:VCALENDAR
VERSION:2.0
PRODID:-//spbstu.ru//ical//RU
NAME:Расписание
X-WR-CALNAME:Расписание
TIMEZONE-ID:Europe/Moscow
X-WR-TIMEZONE:Europe/Moscow
BEGIN:VEVENT
UID:4a4v@192.168.245.71:3006
SEQUENCE:0
DTSTAMP:20260421T101216Z
DTSTART:20260420T090000Z
DTEND:20260420T104000Z
SUMMARY:Теоретические основы электротехники
LOCATION:ГЗ 271
END:VEVENT
BEGIN:VEVENT
UID:cme9@192.168.245.71:3006
SEQUENCE:0
DTSTAMP:20260421T101216Z
DTSTART:20260425T090000Z
DTEND:20260425T104000Z
SUMMARY:Физико-технические основы современной энергетики
LOCATION:ТВН 305
END:VEVENT
END:VCALENDAR