BEGIN:VCALENDAR
VERSION:2.0
PRODID:-//spbstu.ru//ical//RU
NAME:Расписание
X-WR-CALNAME:Расписание
TIMEZONE-ID:Europe/Moscow
X-WR-TIMEZONE:Europe/Moscow
BEGIN:VEVENT
UID:ohrn@192.168.245.71:3006
SEQUENCE:0
DTSTAMP:20260424T080526Z
DTSTART:20251007T070000Z
DTEND:20251007T084000Z
SUMMARY:Строительные материалы
LOCATION:ГК 113
END:VEVENT
BEGIN:VEVENT
UID:hxex@192.168.245.71:3006
SEQUENCE:0
DTSTAMP:20260424T080526Z
DTSTART:20251007T110000Z
DTEND:20251007T124000Z
SUMMARY:Строительные материалы
LOCATION:ГК 113
END:VEVENT
BEGIN:VEVENT
UID:5w9g@192.168.245.71:3006
SEQUENCE:0
DTSTAMP:20260424T080526Z
DTSTART:20251008T070000Z
DTEND:20251008T084000Z
SUMMARY:Строительные материалы
LOCATION:ГК 113
END:VEVENT
BEGIN:VEVENT
UID:r6u0@192.168.245.71:3006
SEQUENCE:0
DTSTAMP:20260424T080526Z
DTSTART:20251008T090000Z
DTEND:20251008T104000Z
SUMMARY:Строительные материалы
LOCATION:ГК 113
END:VEVENT
BEGIN:VEVENT
UID:zmwi@192.168.245.71:3006
SEQUENCE:0
DTSTAMP:20260424T080526Z
DTSTART:20251008T110000Z
DTEND:20251008T124000Z
SUMMARY:Строительные материалы
LOCATION:ГК 113
END:VEVENT
BEGIN:VEVENT
UID:cm2f@192.168.245.71:3006
SEQUENCE:0
DTSTAMP:20260424T080526Z
DTSTART:20251010T070000Z
DTEND:20251010T084000Z
SUMMARY:Строительные материалы
LOCATION:ГК 113
END:VEVENT
BEGIN:VEVENT
UID:cm83@192.168.245.71:3006
SEQUENCE:0
DTSTAMP:20260424T080526Z
DTSTART:20251010T090000Z
DTEND:20251010T104000Z
SUMMARY:Строительные материалы
LOCATION:ГК 113
END:VEVENT
END:VCALENDAR