BEGIN:VCALENDAR
VERSION:2.0
PRODID:-//spbstu.ru//ical//RU
NAME:Расписание
X-WR-CALNAME:Расписание
TIMEZONE-ID:Europe/Moscow
X-WR-TIMEZONE:Europe/Moscow
BEGIN:VEVENT
UID:6bvw@192.168.245.71:3006
SEQUENCE:0
DTSTAMP:20260425T034954Z
DTSTART:20250902T090000Z
DTEND:20250902T104000Z
SUMMARY:Строительные материалы
LOCATION:ГК 117
END:VEVENT
BEGIN:VEVENT
UID:x9yu@192.168.245.71:3006
SEQUENCE:0
DTSTAMP:20260425T034954Z
DTSTART:20250902T110000Z
DTEND:20250902T124000Z
SUMMARY:Строительные материалы
LOCATION:ГК 117
END:VEVENT
BEGIN:VEVENT
UID:n1wd@192.168.245.71:3006
SEQUENCE:0
DTSTAMP:20260425T034954Z
DTSTART:20250903T070000Z
DTEND:20250903T084000Z
SUMMARY:Строительные материалы
LOCATION:ГК 117
END:VEVENT
BEGIN:VEVENT
UID:dnuw@192.168.245.71:3006
SEQUENCE:0
DTSTAMP:20260425T034954Z
DTSTART:20250903T090000Z
DTEND:20250903T104000Z
SUMMARY:Строительные материалы
LOCATION:ГК 117
END:VEVENT
BEGIN:VEVENT
UID:32p1@192.168.245.71:3006
SEQUENCE:0
DTSTAMP:20260425T034954Z
DTSTART:20250903T110000Z
DTEND:20250903T124000Z
SUMMARY:Строительные материалы
LOCATION:ГК 117
END:VEVENT
BEGIN:VEVENT
UID:ol2q@192.168.245.71:3006
SEQUENCE:0
DTSTAMP:20260425T034954Z
DTSTART:20250905T090000Z
DTEND:20250905T104000Z
SUMMARY:Строительные материалы
LOCATION:ГК 117
END:VEVENT
BEGIN:VEVENT
UID:2b4z@192.168.245.71:3006
SEQUENCE:0
DTSTAMP:20260425T034954Z
DTSTART:20250905T110000Z
DTEND:20250905T124000Z
SUMMARY:Строительные материалы
LOCATION:ГК 117
END:VEVENT
END:VCALENDAR