BEGIN:VCALENDAR
VERSION:2.0
PRODID:-//spbstu.ru//ical//RU
NAME:Расписание
X-WR-CALNAME:Расписание
TIMEZONE-ID:Europe/Moscow
X-WR-TIMEZONE:Europe/Moscow
BEGIN:VEVENT
UID:liur@192.168.245.71:3006
SEQUENCE:0
DTSTAMP:20260423T173145Z
DTSTART:20251204T090000Z
DTEND:20251204T104000Z
SUMMARY:Технология разработки программного обеспечения
LOCATION:11 к. 341
END:VEVENT
BEGIN:VEVENT
UID:vvm9@192.168.245.71:3006
SEQUENCE:0
DTSTAMP:20260423T173145Z
DTSTART:20251204T110000Z
DTEND:20251204T124000Z
SUMMARY:Технология разработки программного обеспечения
LOCATION:11 к. 341
END:VEVENT
END:VCALENDAR