BEGIN:VCALENDAR
VERSION:2.0
PRODID:-//spbstu.ru//ical//RU
NAME:Расписание
X-WR-CALNAME:Расписание
TIMEZONE-ID:Europe/Moscow
X-WR-TIMEZONE:Europe/Moscow
BEGIN:VEVENT
UID:31km@192.168.245.71:3006
SEQUENCE:0
DTSTAMP:20260421T141615Z
DTSTART:20260324T140000Z
DTEND:20260324T160000Z
SUMMARY:Технология разработки программного обеспечения
LOCATION:4 к. 307
END:VEVENT
BEGIN:VEVENT
UID:vjnm@192.168.245.71:3006
SEQUENCE:0
DTSTAMP:20260421T141615Z
DTSTART:20260324T140000Z
DTEND:20260324T160000Z
SUMMARY:Технология разработки программного обеспечения
LOCATION:4 к. 307
END:VEVENT
BEGIN:VEVENT
UID:1h2j@192.168.245.71:3006
SEQUENCE:0
DTSTAMP:20260421T141615Z
DTSTART:20260326T110000Z
DTEND:20260326T115000Z
SUMMARY:Защита информации
LOCATION:4 к. 307
END:VEVENT
BEGIN:VEVENT
UID:bu12@192.168.245.71:3006
SEQUENCE:0
DTSTAMP:20260421T141615Z
DTSTART:20260326T120000Z
DTEND:20260326T125000Z
SUMMARY:Защита информации
LOCATION:4 к. 307
END:VEVENT
BEGIN:VEVENT
UID:pox6@192.168.245.71:3006
SEQUENCE:0
DTSTAMP:20260421T141615Z
DTSTART:20260326T130000Z
DTEND:20260326T144000Z
SUMMARY:Защита информации
LOCATION:4 к. 307
END:VEVENT
BEGIN:VEVENT
UID:ymtw@192.168.245.71:3006
SEQUENCE:0
DTSTAMP:20260421T141615Z
DTSTART:20260326T150000Z
DTEND:20260326T155000Z
SUMMARY:Защита информации
LOCATION:4 к. 307
END:VEVENT
END:VCALENDAR