BEGIN:VCALENDAR
VERSION:2.0
PRODID:-//spbstu.ru//ical//RU
NAME:Расписание
X-WR-CALNAME:Расписание
TIMEZONE-ID:Europe/Moscow
X-WR-TIMEZONE:Europe/Moscow
BEGIN:VEVENT
UID:4lvu@192.168.245.71:3006
SEQUENCE:0
DTSTAMP:20260424T215505Z
DTSTART:20250916T130000Z
DTEND:20250916T144000Z
SUMMARY:Основы конструирования
LOCATION:ГЗ 239
END:VEVENT
BEGIN:VEVENT
UID:0u3f@192.168.245.71:3006
SEQUENCE:0
DTSTAMP:20260424T215505Z
DTSTART:20250917T070000Z
DTEND:20250917T084000Z
SUMMARY:Инженерное проектирование
LOCATION:ГЗ 212
END:VEVENT
BEGIN:VEVENT
UID:4kam@192.168.245.71:3006
SEQUENCE:0
DTSTAMP:20260424T215505Z
DTSTART:20250917T090000Z
DTEND:20250917T104000Z
SUMMARY:Эргономика
LOCATION:1 к. 420
END:VEVENT
BEGIN:VEVENT
UID:h3np@192.168.245.71:3006
SEQUENCE:0
DTSTAMP:20260424T215505Z
DTSTART:20250917T130000Z
DTEND:20250917T144000Z
SUMMARY:Эргономика
LOCATION:Хим. к. 52
END:VEVENT
BEGIN:VEVENT
UID:dnvc@192.168.245.71:3006
SEQUENCE:0
DTSTAMP:20260424T215505Z
DTSTART:20250917T150000Z
DTEND:20250917T170000Z
SUMMARY:Экологические вопросы направления
LOCATION:1 к. кафедра Автоматы
END:VEVENT
END:VCALENDAR