BEGIN:VCALENDAR
VERSION:2.0
PRODID:-//spbstu.ru//ical//RU
NAME:Расписание
X-WR-CALNAME:Расписание
TIMEZONE-ID:Europe/Moscow
X-WR-TIMEZONE:Europe/Moscow
BEGIN:VEVENT
UID:7nts@192.168.245.71:3006
SEQUENCE:0
DTSTAMP:20260424T112314Z
DTSTART:20250930T130000Z
DTEND:20250930T144000Z
SUMMARY:Основы конструирования
LOCATION:ГЗ 239
END:VEVENT
BEGIN:VEVENT
UID:b47i@192.168.245.71:3006
SEQUENCE:0
DTSTAMP:20260424T112314Z
DTSTART:20251001T070000Z
DTEND:20251001T084000Z
SUMMARY:Инженерное проектирование
LOCATION:ГЗ 212
END:VEVENT
BEGIN:VEVENT
UID:m8h2@192.168.245.71:3006
SEQUENCE:0
DTSTAMP:20260424T112314Z
DTSTART:20251001T090000Z
DTEND:20251001T104000Z
SUMMARY:Эргономика
LOCATION:1 к. 420
END:VEVENT
BEGIN:VEVENT
UID:bg4q@192.168.245.71:3006
SEQUENCE:0
DTSTAMP:20260424T112314Z
DTSTART:20251001T130000Z
DTEND:20251001T144000Z
SUMMARY:Эргономика
LOCATION:Хим. к. 52
END:VEVENT
END:VCALENDAR