BEGIN:VCALENDAR
VERSION:2.0
PRODID:-//spbstu.ru//ical//RU
NAME:Расписание
X-WR-CALNAME:Расписание
TIMEZONE-ID:Europe/Moscow
X-WR-TIMEZONE:Europe/Moscow
BEGIN:VEVENT
UID:ezrl@192.168.245.71:3006
SEQUENCE:0
DTSTAMP:20260422T134729Z
DTSTART:20260119T070000Z
DTEND:20260119T084000Z
SUMMARY:Основы конструирования
LOCATION:ГЗ 303 (4)
END:VEVENT
BEGIN:VEVENT
UID:8cq6@192.168.245.71:3006
SEQUENCE:0
DTSTAMP:20260422T134729Z
DTSTART:20260119T090000Z
DTEND:20260119T120000Z
SUMMARY:Эргономика
LOCATION:1 к. кафедра Автоматы
END:VEVENT
BEGIN:VEVENT
UID:6uti@192.168.245.71:3006
SEQUENCE:0
DTSTAMP:20260422T134729Z
DTSTART:20260120T070000Z
DTEND:20260120T120000Z
SUMMARY:Основы конструирования
LOCATION:ГЗ 303 (4)
END:VEVENT
BEGIN:VEVENT
UID:2cii@192.168.245.71:3006
SEQUENCE:0
DTSTAMP:20260422T134729Z
DTSTART:20260121T070000Z
DTEND:20260121T100000Z
SUMMARY:Эргономика
LOCATION:1 к. кафедра Автоматы
END:VEVENT
BEGIN:VEVENT
UID:gtsr@192.168.245.71:3006
SEQUENCE:0
DTSTAMP:20260422T134729Z
DTSTART:20260121T100000Z
DTEND:20260121T130000Z
SUMMARY:Эргономика
LOCATION:1 к. кафедра Автоматы
END:VEVENT
END:VCALENDAR