BEGIN:VCALENDAR
VERSION:2.0
PRODID:-//spbstu.ru//ical//RU
NAME:Расписание
X-WR-CALNAME:Расписание
TIMEZONE-ID:Europe/Moscow
X-WR-TIMEZONE:Europe/Moscow
BEGIN:VEVENT
UID:9z5e@192.168.245.71:3006
SEQUENCE:0
DTSTAMP:20260421T150154Z
DTSTART:20260316T110000Z
DTEND:20260316T124000Z
SUMMARY:Экологические вопросы направления
LOCATION:1 к. 421
END:VEVENT
BEGIN:VEVENT
UID:s0si@192.168.245.71:3006
SEQUENCE:0
DTSTAMP:20260421T150154Z
DTSTART:20260316T153000Z
DTEND:20260316T171000Z
SUMMARY:Инженерное проектирование
LOCATION:ГЗ 303 (6)
END:VEVENT
BEGIN:VEVENT
UID:ftrf@192.168.245.71:3006
SEQUENCE:0
DTSTAMP:20260421T150154Z
DTSTART:20260317T070000Z
DTEND:20260317T084000Z
SUMMARY:Экологические вопросы направления
LOCATION:1 к. 435
END:VEVENT
BEGIN:VEVENT
UID:espn@192.168.245.71:3006
SEQUENCE:0
DTSTAMP:20260421T150154Z
DTSTART:20260317T090000Z
DTEND:20260317T104000Z
SUMMARY:Экологические вопросы направления
LOCATION:1 к. 435
END:VEVENT
BEGIN:VEVENT
UID:2v2f@192.168.245.71:3006
SEQUENCE:0
DTSTAMP:20260421T150154Z
DTSTART:20260317T130000Z
DTEND:20260317T144000Z
SUMMARY:Экологические вопросы направления
LOCATION:1 к. 421
END:VEVENT
BEGIN:VEVENT
UID:2d60@192.168.245.71:3006
SEQUENCE:0
DTSTAMP:20260421T150154Z
DTSTART:20260317T150000Z
DTEND:20260317T164000Z
SUMMARY:Экологические вопросы направления
LOCATION:1 к. 421
END:VEVENT
BEGIN:VEVENT
UID:myfs@192.168.245.71:3006
SEQUENCE:0
DTSTAMP:20260421T150154Z
DTSTART:20260318T070000Z
DTEND:20260318T084000Z
SUMMARY:Экологические вопросы направления
LOCATION:1 к. 421
END:VEVENT
BEGIN:VEVENT
UID:cgc6@192.168.245.71:3006
SEQUENCE:0
DTSTAMP:20260421T150154Z
DTSTART:20260318T090000Z
DTEND:20260318T104000Z
SUMMARY:Экологические вопросы направления
LOCATION:1 к. 421
END:VEVENT
BEGIN:VEVENT
UID:e5sy@192.168.245.71:3006
SEQUENCE:0
DTSTAMP:20260421T150154Z
DTSTART:20260318T130000Z
DTEND:20260318T144000Z
SUMMARY:Надежность технологических машин и оборудования
LOCATION:1 к. кафедра Автоматы
END:VEVENT
BEGIN:VEVENT
UID:w9xa@192.168.245.71:3006
SEQUENCE:0
DTSTAMP:20260421T150154Z
DTSTART:20260318T150000Z
DTEND:20260318T155000Z
SUMMARY:Надежность технологических машин и оборудования
LOCATION:1 к. кафедра Автоматы
END:VEVENT
BEGIN:VEVENT
UID:omeb@192.168.245.71:3006
SEQUENCE:0
DTSTAMP:20260421T150154Z
DTSTART:20260320T070000Z
DTEND:20260320T084000Z
SUMMARY:Экологические вопросы направления
LOCATION:1 к. 421
END:VEVENT
BEGIN:VEVENT
UID:yz35@192.168.245.71:3006
SEQUENCE:0
DTSTAMP:20260421T150154Z
DTSTART:20260320T090000Z
DTEND:20260320T104000Z
SUMMARY:Экологические вопросы направления
LOCATION:ГЗ 232
END:VEVENT
BEGIN:VEVENT
UID:mk0s@192.168.245.71:3006
SEQUENCE:0
DTSTAMP:20260421T150154Z
DTSTART:20260320T110000Z
DTEND:20260320T124000Z
SUMMARY:Экологические вопросы направления
LOCATION:1 к. 421
END:VEVENT
BEGIN:VEVENT
UID:c3ca@192.168.245.71:3006
SEQUENCE:0
DTSTAMP:20260421T150154Z
DTSTART:20260320T130000Z
DTEND:20260320T144000Z
SUMMARY:Экологические вопросы направления
LOCATION:1 к. 421
END:VEVENT
BEGIN:VEVENT
UID:7b2m@192.168.245.71:3006
SEQUENCE:0
DTSTAMP:20260421T150154Z
DTSTART:20260321T070000Z
DTEND:20260321T084000Z
SUMMARY:Экологические вопросы направления
LOCATION:ГЗ 232
END:VEVENT
BEGIN:VEVENT
UID:acg2@192.168.245.71:3006
SEQUENCE:0
DTSTAMP:20260421T150154Z
DTSTART:20260321T090000Z
DTEND:20260321T104000Z
SUMMARY:Экологические вопросы направления
LOCATION:ГЗ 232
END:VEVENT
END:VCALENDAR