BEGIN:VCALENDAR
VERSION:2.0
PRODID:-//spbstu.ru//ical//RU
NAME:Расписание
X-WR-CALNAME:Расписание
TIMEZONE-ID:Europe/Moscow
X-WR-TIMEZONE:Europe/Moscow
BEGIN:VEVENT
UID:mn99@192.168.245.71:3006
SEQUENCE:0
DTSTAMP:20260421T132525Z
DTSTART:20260311T070000Z
DTEND:20260311T084000Z
SUMMARY:Экологические вопросы направления
LOCATION:1 к. 421
END:VEVENT
BEGIN:VEVENT
UID:mczs@192.168.245.71:3006
SEQUENCE:0
DTSTAMP:20260421T132525Z
DTSTART:20260311T090000Z
DTEND:20260311T104000Z
SUMMARY:Экологические вопросы направления
LOCATION:1 к. 421
END:VEVENT
BEGIN:VEVENT
UID:z8ya@192.168.245.71:3006
SEQUENCE:0
DTSTAMP:20260421T132525Z
DTSTART:20260311T130000Z
DTEND:20260311T144000Z
SUMMARY:Надежность технологических машин и оборудования
LOCATION:1 к. кафедра Автоматы
END:VEVENT
BEGIN:VEVENT
UID:qptv@192.168.245.71:3006
SEQUENCE:0
DTSTAMP:20260421T132525Z
DTSTART:20260311T150000Z
DTEND:20260311T155000Z
SUMMARY:Надежность технологических машин и оборудования
LOCATION:1 к. кафедра Автоматы
END:VEVENT
BEGIN:VEVENT
UID:ffmf@192.168.245.71:3006
SEQUENCE:0
DTSTAMP:20260421T132525Z
DTSTART:20260312T070000Z
DTEND:20260312T084000Z
SUMMARY:Экологические вопросы направления
LOCATION:ГЗ 329
END:VEVENT
BEGIN:VEVENT
UID:1iat@192.168.245.71:3006
SEQUENCE:0
DTSTAMP:20260421T132525Z
DTSTART:20260313T090000Z
DTEND:20260313T104000Z
SUMMARY:Экологические вопросы направления
LOCATION:1 к. 421
END:VEVENT
BEGIN:VEVENT
UID:hocz@192.168.245.71:3006
SEQUENCE:0
DTSTAMP:20260421T132525Z
DTSTART:20260313T110000Z
DTEND:20260313T124000Z
SUMMARY:Экологические вопросы направления
LOCATION:1 к. 421
END:VEVENT
END:VCALENDAR