BEGIN:VCALENDAR
VERSION:2.0
PRODID:-//spbstu.ru//ical//RU
NAME:Расписание
X-WR-CALNAME:Расписание
TIMEZONE-ID:Europe/Moscow
X-WR-TIMEZONE:Europe/Moscow
BEGIN:VEVENT
UID:b03e@192.168.245.71:3006
SEQUENCE:0
DTSTAMP:20260423T144937Z
DTSTART:20251110T070000Z
DTEND:20251110T084000Z
SUMMARY:Механика жидкости и газа
LOCATION:Мех. к. 26
END:VEVENT
BEGIN:VEVENT
UID:mkjz@192.168.245.71:3006
SEQUENCE:0
DTSTAMP:20260423T144937Z
DTSTART:20251110T090000Z
DTEND:20251110T104000Z
SUMMARY:Численные методы в теплофизике и теплоэнергетике
LOCATION:Хим. к. 9
END:VEVENT
BEGIN:VEVENT
UID:ofbh@192.168.245.71:3006
SEQUENCE:0
DTSTAMP:20260423T144937Z
DTSTART:20251110T110000Z
DTEND:20251110T124000Z
SUMMARY:Теплообмен
LOCATION:Хим. к. Лаб.№10 Тепло- и массообмен
END:VEVENT
BEGIN:VEVENT
UID:2sbv@192.168.245.71:3006
SEQUENCE:0
DTSTAMP:20260423T144937Z
DTSTART:20251110T130000Z
DTEND:20251110T144000Z
SUMMARY:Механика жидкости и газа
LOCATION:Мех. к. 26
END:VEVENT
BEGIN:VEVENT
UID:nupq@192.168.245.71:3006
SEQUENCE:0
DTSTAMP:20260423T144937Z
DTSTART:20251111T070000Z
DTEND:20251111T084000Z
SUMMARY:Механика жидкости и газа
LOCATION:Хим. к. лаб.№11 Механика жидкости и газа
END:VEVENT
BEGIN:VEVENT
UID:e131@192.168.245.71:3006
SEQUENCE:0
DTSTAMP:20260423T144937Z
DTSTART:20251111T090000Z
DTEND:20251111T104000Z
SUMMARY:Численные методы в теплофизике и теплоэнергетике
LOCATION:Мех. к. Комп. кл. №7
END:VEVENT
BEGIN:VEVENT
UID:mhp5@192.168.245.71:3006
SEQUENCE:0
DTSTAMP:20260423T144937Z
DTSTART:20251111T110000Z
DTEND:20251111T124000Z
SUMMARY:Приборы и методы измерений в энергоэкологическом аудите
LOCATION:Мех. к. Комп. кл. №7
END:VEVENT
BEGIN:VEVENT
UID:9t5a@192.168.245.71:3006
SEQUENCE:0
DTSTAMP:20260423T144937Z
DTSTART:20251111T130000Z
DTEND:20251111T144000Z
SUMMARY:Механика жидкости и газа
LOCATION:Хим. к. лаб.№11 Механика жидкости и газа
END:VEVENT
BEGIN:VEVENT
UID:4qqn@192.168.245.71:3006
SEQUENCE:0
DTSTAMP:20260423T144937Z
DTSTART:20251112T110000Z
DTEND:20251112T124000Z
SUMMARY:Тепломассообмен
LOCATION:Хим. к. Лаб.№10 Тепло- и массообмен
END:VEVENT
BEGIN:VEVENT
UID:5uc4@192.168.245.71:3006
SEQUENCE:0
DTSTAMP:20260423T144937Z
DTSTART:20251113T070000Z
DTEND:20251113T084000Z
SUMMARY:Термодинамика
LOCATION:Хим. к. лаб.8 Термодинамика
END:VEVENT
BEGIN:VEVENT
UID:luyq@192.168.245.71:3006
SEQUENCE:0
DTSTAMP:20260423T144937Z
DTSTART:20251113T110000Z
DTEND:20251113T124000Z
SUMMARY:Теплообмен
LOCATION:Мех. к. Комп. кл. №7
END:VEVENT
BEGIN:VEVENT
UID:u98w@192.168.245.71:3006
SEQUENCE:0
DTSTAMP:20260423T144937Z
DTSTART:20251113T130000Z
DTEND:20251113T144000Z
SUMMARY:Механика жидкости и газа
LOCATION:Хим. к. лаб.№11 Механика жидкости и газа
END:VEVENT
BEGIN:VEVENT
UID:sc3c@192.168.245.71:3006
SEQUENCE:0
DTSTAMP:20260423T144937Z
DTSTART:20251114T070000Z
DTEND:20251114T084000Z
SUMMARY:Механика жидкости и газа
LOCATION:ГЗ 223
END:VEVENT
BEGIN:VEVENT
UID:szfq@192.168.245.71:3006
SEQUENCE:0
DTSTAMP:20260423T144937Z
DTSTART:20251114T090000Z
DTEND:20251114T104000Z
SUMMARY:Теплообмен
LOCATION:Хим. к. Лаб.№10 Тепло- и массообмен
END:VEVENT
BEGIN:VEVENT
UID:2x98@192.168.245.71:3006
SEQUENCE:0
DTSTAMP:20260423T144937Z
DTSTART:20251114T130000Z
DTEND:20251114T144000Z
SUMMARY:Термодинамика
LOCATION:Хим. к. лаб.8 Термодинамика
END:VEVENT
BEGIN:VEVENT
UID:4i20@192.168.245.71:3006
SEQUENCE:0
DTSTAMP:20260423T144937Z
DTSTART:20251114T150000Z
DTEND:20251114T164000Z
SUMMARY:Основы современной энергетики
LOCATION:50 уч.к 1232
END:VEVENT
BEGIN:VEVENT
UID:pe2c@192.168.245.71:3006
SEQUENCE:0
DTSTAMP:20260423T144937Z
DTSTART:20251114T170000Z
DTEND:20251114T184000Z
SUMMARY:Основы современной энергетики
LOCATION:50 уч.к 1232
END:VEVENT
END:VCALENDAR