BEGIN:VCALENDAR
VERSION:2.0
PRODID:-//spbstu.ru//ical//RU
NAME:Расписание
X-WR-CALNAME:Расписание
TIMEZONE-ID:Europe/Moscow
X-WR-TIMEZONE:Europe/Moscow
BEGIN:VEVENT
UID:jets@192.168.245.71:3006
SEQUENCE:0
DTSTAMP:20260423T101508Z
DTSTART:20251124T070000Z
DTEND:20251124T084000Z
SUMMARY:Механика жидкости и газа
LOCATION:Мех. к. 26
END:VEVENT
BEGIN:VEVENT
UID:4z5t@192.168.245.71:3006
SEQUENCE:0
DTSTAMP:20260423T101508Z
DTSTART:20251124T090000Z
DTEND:20251124T104000Z
SUMMARY:Численные методы в теплофизике и теплоэнергетике
LOCATION:Хим. к. 9
END:VEVENT
BEGIN:VEVENT
UID:0k91@192.168.245.71:3006
SEQUENCE:0
DTSTAMP:20260423T101508Z
DTSTART:20251124T110000Z
DTEND:20251124T124000Z
SUMMARY:Теплообмен
LOCATION:Хим. к. Лаб.№10 Тепло- и массообмен
END:VEVENT
BEGIN:VEVENT
UID:jy7o@192.168.245.71:3006
SEQUENCE:0
DTSTAMP:20260423T101508Z
DTSTART:20251124T130000Z
DTEND:20251124T144000Z
SUMMARY:Механика жидкости и газа
LOCATION:Мех. к. 26
END:VEVENT
BEGIN:VEVENT
UID:bufj@192.168.245.71:3006
SEQUENCE:0
DTSTAMP:20260423T101508Z
DTSTART:20251125T070000Z
DTEND:20251125T084000Z
SUMMARY:Механика жидкости и газа
LOCATION:Хим. к. лаб.№11 Механика жидкости и газа
END:VEVENT
BEGIN:VEVENT
UID:flhh@192.168.245.71:3006
SEQUENCE:0
DTSTAMP:20260423T101508Z
DTSTART:20251125T090000Z
DTEND:20251125T104000Z
SUMMARY:Численные методы в теплофизике и теплоэнергетике
LOCATION:Мех. к. Комп. кл. №7
END:VEVENT
BEGIN:VEVENT
UID:qjnw@192.168.245.71:3006
SEQUENCE:0
DTSTAMP:20260423T101508Z
DTSTART:20251125T110000Z
DTEND:20251125T124000Z
SUMMARY:Приборы и методы измерений в энергоэкологическом аудите
LOCATION:Мех. к. Комп. кл. №7
END:VEVENT
BEGIN:VEVENT
UID:a7df@192.168.245.71:3006
SEQUENCE:0
DTSTAMP:20260423T101508Z
DTSTART:20251125T130000Z
DTEND:20251125T144000Z
SUMMARY:Механика жидкости и газа
LOCATION:Хим. к. лаб.№11 Механика жидкости и газа
END:VEVENT
BEGIN:VEVENT
UID:wzja@192.168.245.71:3006
SEQUENCE:0
DTSTAMP:20260423T101508Z
DTSTART:20251126T110000Z
DTEND:20251126T124000Z
SUMMARY:Тепломассообмен
LOCATION:Хим. к. Лаб.№10 Тепло- и массообмен
END:VEVENT
BEGIN:VEVENT
UID:qacm@192.168.245.71:3006
SEQUENCE:0
DTSTAMP:20260423T101508Z
DTSTART:20251127T070000Z
DTEND:20251127T084000Z
SUMMARY:Термодинамика
LOCATION:Хим. к. лаб.8 Термодинамика
END:VEVENT
BEGIN:VEVENT
UID:3be6@192.168.245.71:3006
SEQUENCE:0
DTSTAMP:20260423T101508Z
DTSTART:20251127T110000Z
DTEND:20251127T124000Z
SUMMARY:Теплообмен
LOCATION:Мех. к. Комп. кл. №7
END:VEVENT
BEGIN:VEVENT
UID:goav@192.168.245.71:3006
SEQUENCE:0
DTSTAMP:20260423T101508Z
DTSTART:20251127T130000Z
DTEND:20251127T144000Z
SUMMARY:Механика жидкости и газа
LOCATION:Хим. к. лаб.№11 Механика жидкости и газа
END:VEVENT
BEGIN:VEVENT
UID:03ay@192.168.245.71:3006
SEQUENCE:0
DTSTAMP:20260423T101508Z
DTSTART:20251128T070000Z
DTEND:20251128T084000Z
SUMMARY:Механика жидкости и газа
LOCATION:ГЗ 223
END:VEVENT
BEGIN:VEVENT
UID:oxsu@192.168.245.71:3006
SEQUENCE:0
DTSTAMP:20260423T101508Z
DTSTART:20251128T090000Z
DTEND:20251128T104000Z
SUMMARY:Теплообмен
LOCATION:Хим. к. Лаб.№10 Тепло- и массообмен
END:VEVENT
BEGIN:VEVENT
UID:box4@192.168.245.71:3006
SEQUENCE:0
DTSTAMP:20260423T101508Z
DTSTART:20251128T130000Z
DTEND:20251128T144000Z
SUMMARY:Термодинамика
LOCATION:Хим. к. лаб.8 Термодинамика
END:VEVENT
BEGIN:VEVENT
UID:yiok@192.168.245.71:3006
SEQUENCE:0
DTSTAMP:20260423T101508Z
DTSTART:20251128T150000Z
DTEND:20251128T164000Z
SUMMARY:Основы современной энергетики
LOCATION:50 уч.к 1232
END:VEVENT
BEGIN:VEVENT
UID:3p02@192.168.245.71:3006
SEQUENCE:0
DTSTAMP:20260423T101508Z
DTSTART:20251128T170000Z
DTEND:20251128T184000Z
SUMMARY:Основы современной энергетики
LOCATION:50 уч.к 1232
END:VEVENT
END:VCALENDAR