BEGIN:VCALENDAR
VERSION:2.0
PRODID:-//spbstu.ru//ical//RU
NAME:Расписание
X-WR-CALNAME:Расписание
TIMEZONE-ID:Europe/Moscow
X-WR-TIMEZONE:Europe/Moscow
BEGIN:VEVENT
UID:q8d9@192.168.245.71:3006
SEQUENCE:0
DTSTAMP:20260423T084706Z
DTSTART:20251201T070000Z
DTEND:20251201T084000Z
SUMMARY:Термодинамика
LOCATION:Хим. к. лаб.8 Термодинамика
END:VEVENT
BEGIN:VEVENT
UID:7vrt@192.168.245.71:3006
SEQUENCE:0
DTSTAMP:20260423T084706Z
DTSTART:20251201T090000Z
DTEND:20251201T104000Z
SUMMARY:Численные методы в теплофизике и теплоэнергетике
LOCATION:Хим. к. 9
END:VEVENT
BEGIN:VEVENT
UID:1ofu@192.168.245.71:3006
SEQUENCE:0
DTSTAMP:20260423T084706Z
DTSTART:20251201T110000Z
DTEND:20251201T124000Z
SUMMARY:Теплообмен
LOCATION:Хим. к. Лаб.№10 Тепло- и массообмен
END:VEVENT
BEGIN:VEVENT
UID:5a6i@192.168.245.71:3006
SEQUENCE:0
DTSTAMP:20260423T084706Z
DTSTART:20251201T130000Z
DTEND:20251201T144000Z
SUMMARY:Термодинамика
LOCATION:Мех. к. 26
END:VEVENT
BEGIN:VEVENT
UID:gmqy@192.168.245.71:3006
SEQUENCE:0
DTSTAMP:20260423T084706Z
DTSTART:20251202T070000Z
DTEND:20251202T084000Z
SUMMARY:Механика жидкости и газа
LOCATION:Хим. к. лаб.№11 Механика жидкости и газа
END:VEVENT
BEGIN:VEVENT
UID:znxz@192.168.245.71:3006
SEQUENCE:0
DTSTAMP:20260423T084706Z
DTSTART:20251202T090000Z
DTEND:20251202T104000Z
SUMMARY:Численные методы в теплофизике и теплоэнергетике
LOCATION:Мех. к. Комп. кл. №7
END:VEVENT
BEGIN:VEVENT
UID:1nya@192.168.245.71:3006
SEQUENCE:0
DTSTAMP:20260423T084706Z
DTSTART:20251202T110000Z
DTEND:20251202T124000Z
SUMMARY:Приборы и методы измерений в энергоэкологическом аудите
LOCATION:Мех. к. Комп. кл. №7
END:VEVENT
BEGIN:VEVENT
UID:e36d@192.168.245.71:3006
SEQUENCE:0
DTSTAMP:20260423T084706Z
DTSTART:20251202T130000Z
DTEND:20251202T144000Z
SUMMARY:Механика жидкости и газа
LOCATION:Хим. к. лаб.№11 Механика жидкости и газа
END:VEVENT
BEGIN:VEVENT
UID:q9cb@192.168.245.71:3006
SEQUENCE:0
DTSTAMP:20260423T084706Z
DTSTART:20251203T110000Z
DTEND:20251203T124000Z
SUMMARY:Тепломассообмен
LOCATION:Хим. к. Лаб.№10 Тепло- и массообмен
END:VEVENT
BEGIN:VEVENT
UID:q4jt@192.168.245.71:3006
SEQUENCE:0
DTSTAMP:20260423T084706Z
DTSTART:20251204T070000Z
DTEND:20251204T084000Z
SUMMARY:Термодинамика
LOCATION:Мех. к. 14
END:VEVENT
BEGIN:VEVENT
UID:cen0@192.168.245.71:3006
SEQUENCE:0
DTSTAMP:20260423T084706Z
DTSTART:20251204T110000Z
DTEND:20251204T124000Z
SUMMARY:Механика жидкости и газа
LOCATION:Мех. к. 26
END:VEVENT
BEGIN:VEVENT
UID:ft0u@192.168.245.71:3006
SEQUENCE:0
DTSTAMP:20260423T084706Z
DTSTART:20251205T070000Z
DTEND:20251205T084000Z
SUMMARY:Термодинамика
LOCATION:Хим. к. лаб.8 Термодинамика
END:VEVENT
BEGIN:VEVENT
UID:z1tb@192.168.245.71:3006
SEQUENCE:0
DTSTAMP:20260423T084706Z
DTSTART:20251205T090000Z
DTEND:20251205T104000Z
SUMMARY:Термодинамика
LOCATION:ГЗ 223
END:VEVENT
BEGIN:VEVENT
UID:1am3@192.168.245.71:3006
SEQUENCE:0
DTSTAMP:20260423T084706Z
DTSTART:20251205T130000Z
DTEND:20251205T144000Z
SUMMARY:Термодинамика
LOCATION:Хим. к. лаб.8 Термодинамика
END:VEVENT
BEGIN:VEVENT
UID:gj8p@192.168.245.71:3006
SEQUENCE:0
DTSTAMP:20260423T084706Z
DTSTART:20251205T150000Z
DTEND:20251205T164000Z
SUMMARY:Основы современной энергетики
LOCATION:50 уч.к 1232
END:VEVENT
END:VCALENDAR