BEGIN:VCALENDAR
VERSION:2.0
PRODID:-//spbstu.ru//ical//RU
NAME:Расписание
X-WR-CALNAME:Расписание
TIMEZONE-ID:Europe/Moscow
X-WR-TIMEZONE:Europe/Moscow
BEGIN:VEVENT
UID:j2vd@192.168.245.71:3006
SEQUENCE:0
DTSTAMP:20260421T101207Z
DTSTART:20260216T110000Z
DTEND:20260216T124000Z
SUMMARY:Термодинамика
LOCATION:ГЗ 230
END:VEVENT
BEGIN:VEVENT
UID:i3ep@192.168.245.71:3006
SEQUENCE:0
DTSTAMP:20260421T101207Z
DTSTART:20260216T130000Z
DTEND:20260216T144000Z
SUMMARY:Тепломассообмен
LOCATION:ГЗ 230
END:VEVENT
BEGIN:VEVENT
UID:lsov@192.168.245.71:3006
SEQUENCE:0
DTSTAMP:20260421T101207Z
DTSTART:20260217T070000Z
DTEND:20260217T084000Z
SUMMARY:Механика жидкости и газа
LOCATION:Хим. к. лаб.№11 Механика жидкости и газа
END:VEVENT
BEGIN:VEVENT
UID:vcb3@192.168.245.71:3006
SEQUENCE:0
DTSTAMP:20260421T101207Z
DTSTART:20260218T070000Z
DTEND:20260218T084000Z
SUMMARY:Тепломассообмен
LOCATION:Хим. к. Лаб.№10 Тепло- и массообмен
END:VEVENT
BEGIN:VEVENT
UID:qqck@192.168.245.71:3006
SEQUENCE:0
DTSTAMP:20260421T101207Z
DTSTART:20260219T070000Z
DTEND:20260219T084000Z
SUMMARY:Механика жидкости и газа
LOCATION:Хим. к. лаб.№11 Механика жидкости и газа
END:VEVENT
BEGIN:VEVENT
UID:nbnr@192.168.245.71:3006
SEQUENCE:0
DTSTAMP:20260421T101207Z
DTSTART:20260219T090000Z
DTEND:20260219T104000Z
SUMMARY:Теплообмен
LOCATION:Мех. к. 26
END:VEVENT
BEGIN:VEVENT
UID:seji@192.168.245.71:3006
SEQUENCE:0
DTSTAMP:20260421T101207Z
DTSTART:20260219T130000Z
DTEND:20260219T144000Z
SUMMARY:Основы современной энергетики
LOCATION:50 уч.к 1422
END:VEVENT
END:VCALENDAR