BEGIN:VCALENDAR
VERSION:2.0
PRODID:-//spbstu.ru//ical//RU
NAME:Расписание
X-WR-CALNAME:Расписание
TIMEZONE-ID:Europe/Moscow
X-WR-TIMEZONE:Europe/Moscow
BEGIN:VEVENT
UID:ilip@192.168.245.71:3006
SEQUENCE:0
DTSTAMP:20260423T050151Z
DTSTART:20260120T070000Z
DTEND:20260120T084000Z
SUMMARY:САПР технологических процессов
LOCATION:1 к. кафедра Автоматы
END:VEVENT
BEGIN:VEVENT
UID:3jhh@192.168.245.71:3006
SEQUENCE:0
DTSTAMP:20260423T050151Z
DTSTART:20260120T090000Z
DTEND:20260120T104000Z
SUMMARY:САПР технологических процессов
LOCATION:1 к. кафедра Автоматы
END:VEVENT
BEGIN:VEVENT
UID:fxls@192.168.245.71:3006
SEQUENCE:0
DTSTAMP:20260423T050151Z
DTSTART:20260120T110000Z
DTEND:20260120T124000Z
SUMMARY:САПР технологических процессов
LOCATION:1 к. кафедра Автоматы
END:VEVENT
BEGIN:VEVENT
UID:lbcz@192.168.245.71:3006
SEQUENCE:0
DTSTAMP:20260423T050151Z
DTSTART:20260120T130000Z
DTEND:20260120T144000Z
SUMMARY:САПР технологических процессов
LOCATION:1 к. кафедра Автоматы
END:VEVENT
BEGIN:VEVENT
UID:bpo0@192.168.245.71:3006
SEQUENCE:0
DTSTAMP:20260423T050151Z
DTSTART:20260121T070000Z
DTEND:20260121T084000Z
SUMMARY:САПР технологических процессов
LOCATION:1 к. кафедра Автоматы
END:VEVENT
BEGIN:VEVENT
UID:8wh4@192.168.245.71:3006
SEQUENCE:0
DTSTAMP:20260423T050151Z
DTSTART:20260121T070000Z
DTEND:20260121T084000Z
SUMMARY:САПР технологических процессов
LOCATION:1 к. кафедра Автоматы
END:VEVENT
BEGIN:VEVENT
UID:fiwt@192.168.245.71:3006
SEQUENCE:0
DTSTAMP:20260423T050151Z
DTSTART:20260121T090000Z
DTEND:20260121T100000Z
SUMMARY:САПР технологических процессов
LOCATION:1 к. кафедра Автоматы
END:VEVENT
BEGIN:VEVENT
UID:6siq@192.168.245.71:3006
SEQUENCE:0
DTSTAMP:20260423T050151Z
DTSTART:20260121T100000Z
DTEND:20260121T110000Z
SUMMARY:САПР технологических процессов
LOCATION:1 к. кафедра Автоматы
END:VEVENT
END:VCALENDAR