BEGIN:VCALENDAR
VERSION:2.0
PRODID:-//spbstu.ru//ical//RU
NAME:Расписание
X-WR-CALNAME:Расписание
TIMEZONE-ID:Europe/Moscow
X-WR-TIMEZONE:Europe/Moscow
BEGIN:VEVENT
UID:pjv6@192.168.245.71:3006
SEQUENCE:0
DTSTAMP:20260422T123421Z
DTSTART:20260317T090000Z
DTEND:20260317T104000Z
SUMMARY:Автоматизация проектирования в машиностроении
LOCATION:1 к. кафедра Автоматы
END:VEVENT
BEGIN:VEVENT
UID:oxu8@192.168.245.71:3006
SEQUENCE:0
DTSTAMP:20260422T123421Z
DTSTART:20260317T090000Z
DTEND:20260317T104000Z
SUMMARY:Автоматизация проектирования в машиностроении
LOCATION:1 к. кафедра Автоматы
END:VEVENT
BEGIN:VEVENT
UID:2v6u@192.168.245.71:3006
SEQUENCE:0
DTSTAMP:20260422T123421Z
DTSTART:20260317T110000Z
DTEND:20260317T124000Z
SUMMARY:Автоматизация проектирования в машиностроении
LOCATION:1 к. кафедра Автоматы
END:VEVENT
BEGIN:VEVENT
UID:3gg6@192.168.245.71:3006
SEQUENCE:0
DTSTAMP:20260422T123421Z
DTSTART:20260318T110000Z
DTEND:20260318T124000Z
SUMMARY:Автоматизация проектирования в машиностроении
LOCATION:1 к. кафедра Автоматы
END:VEVENT
END:VCALENDAR