BEGIN:VCALENDAR
VERSION:2.0
PRODID:-//spbstu.ru//ical//RU
NAME:Расписание
X-WR-CALNAME:Расписание
TIMEZONE-ID:Europe/Moscow
X-WR-TIMEZONE:Europe/Moscow
BEGIN:VEVENT
UID:q2vc@192.168.245.71:3006
SEQUENCE:0
DTSTAMP:20260423T090104Z
DTSTART:20260211T083000Z
DTEND:20260211T085900Z
SUMMARY:Методы тестирования программного обеспечения
LOCATION:11 к. 343
END:VEVENT
BEGIN:VEVENT
UID:k3o8@192.168.245.71:3006
SEQUENCE:0
DTSTAMP:20260423T090104Z
DTSTART:20260211T090000Z
DTEND:20260211T104000Z
SUMMARY:Приёмы программирования на языке JAVA
LOCATION:11 к. 343
END:VEVENT
BEGIN:VEVENT
UID:hcqp@192.168.245.71:3006
SEQUENCE:0
DTSTAMP:20260423T090104Z
DTSTART:20260211T110000Z
DTEND:20260211T124000Z
SUMMARY:Приёмы программирования на языке JAVA
LOCATION:11 к. 343
END:VEVENT
BEGIN:VEVENT
UID:ha3w@192.168.245.71:3006
SEQUENCE:0
DTSTAMP:20260423T090104Z
DTSTART:20260213T090000Z
DTEND:20260213T104000Z
SUMMARY:Приёмы программирования на языке JAVA
LOCATION:11 к. 329
END:VEVENT
BEGIN:VEVENT
UID:di7s@192.168.245.71:3006
SEQUENCE:0
DTSTAMP:20260423T090104Z
DTSTART:20260213T110000Z
DTEND:20260213T124000Z
SUMMARY:Приёмы программирования на языке JAVA
LOCATION:11 к. 218
END:VEVENT
END:VCALENDAR