BEGIN:VCALENDAR
VERSION:2.0
PRODID:-//spbstu.ru//ical//RU
NAME:Расписание
X-WR-CALNAME:Расписание
TIMEZONE-ID:Europe/Moscow
X-WR-TIMEZONE:Europe/Moscow
BEGIN:VEVENT
UID:6cvy@192.168.245.71:3006
SEQUENCE:0
DTSTAMP:20260422T073728Z
DTSTART:20260318T070000Z
DTEND:20260318T084000Z
SUMMARY:Приёмы программирования на языке JAVA
LOCATION:11 к. 102
END:VEVENT
BEGIN:VEVENT
UID:a90w@192.168.245.71:3006
SEQUENCE:0
DTSTAMP:20260422T073728Z
DTSTART:20260318T090000Z
DTEND:20260318T104000Z
SUMMARY:Приёмы программирования на языке JAVA
LOCATION:11 к. 343
END:VEVENT
BEGIN:VEVENT
UID:whf6@192.168.245.71:3006
SEQUENCE:0
DTSTAMP:20260422T073728Z
DTSTART:20260318T110000Z
DTEND:20260318T124000Z
SUMMARY:Приёмы программирования на языке JAVA
LOCATION:11 к. 343
END:VEVENT
BEGIN:VEVENT
UID:bsyp@192.168.245.71:3006
SEQUENCE:0
DTSTAMP:20260422T073728Z
DTSTART:20260320T090000Z
DTEND:20260320T104000Z
SUMMARY:Приёмы программирования на языке JAVA
LOCATION:11 к. 329
END:VEVENT
BEGIN:VEVENT
UID:wazi@192.168.245.71:3006
SEQUENCE:0
DTSTAMP:20260422T073728Z
DTSTART:20260320T110000Z
DTEND:20260320T124000Z
SUMMARY:Приёмы программирования на языке JAVA
LOCATION:11 к. 218
END:VEVENT
END:VCALENDAR