BEGIN:VCALENDAR
VERSION:2.0
PRODID:-//spbstu.ru//ical//RU
NAME:Расписание
X-WR-CALNAME:Расписание
TIMEZONE-ID:Europe/Moscow
X-WR-TIMEZONE:Europe/Moscow
BEGIN:VEVENT
UID:0xmk@192.168.245.71:3006
SEQUENCE:0
DTSTAMP:20260422T042627Z
DTSTART:20260325T090000Z
DTEND:20260325T104000Z
SUMMARY:Приёмы программирования на языке JAVA
LOCATION:11 к. 343
END:VEVENT
BEGIN:VEVENT
UID:69db@192.168.245.71:3006
SEQUENCE:0
DTSTAMP:20260422T042627Z
DTSTART:20260325T110000Z
DTEND:20260325T124000Z
SUMMARY:Приёмы программирования на языке JAVA
LOCATION:11 к. 343
END:VEVENT
BEGIN:VEVENT
UID:hf37@192.168.245.71:3006
SEQUENCE:0
DTSTAMP:20260422T042627Z
DTSTART:20260327T090000Z
DTEND:20260327T104000Z
SUMMARY:Приёмы программирования на языке JAVA
LOCATION:11 к. 329
END:VEVENT
BEGIN:VEVENT
UID:jwhn@192.168.245.71:3006
SEQUENCE:0
DTSTAMP:20260422T042627Z
DTSTART:20260327T110000Z
DTEND:20260327T124000Z
SUMMARY:Приёмы программирования на языке JAVA
LOCATION:11 к. 218
END:VEVENT
BEGIN:VEVENT
UID:79o2@192.168.245.71:3006
SEQUENCE:0
DTSTAMP:20260422T042627Z
DTSTART:20260327T123000Z
DTEND:20260327T130000Z
SUMMARY:Методы тестирования программного обеспечения
LOCATION:11 к. 218
END:VEVENT
END:VCALENDAR