BEGIN:VCALENDAR
VERSION:2.0
PRODID:-//spbstu.ru//ical//RU
NAME:Расписание
X-WR-CALNAME:Расписание
TIMEZONE-ID:Europe/Moscow
X-WR-TIMEZONE:Europe/Moscow
BEGIN:VEVENT
UID:8x70@192.168.245.71:3006
SEQUENCE:0
DTSTAMP:20260425T224148Z
DTSTART:20251107T050000Z
DTEND:20251107T064000Z
SUMMARY:Китайский язык
LOCATION:16 к. 109
END:VEVENT
BEGIN:VEVENT
UID:wzt4@192.168.245.71:3006
SEQUENCE:0
DTSTAMP:20260425T224148Z
DTSTART:20251107T070000Z
DTEND:20251107T084000Z
SUMMARY:Китайский язык
LOCATION:16 к. 109
END:VEVENT
BEGIN:VEVENT
UID:mgfy@192.168.245.71:3006
SEQUENCE:0
DTSTAMP:20260425T224148Z
DTSTART:20251107T110000Z
DTEND:20251107T124000Z
SUMMARY:Китайский язык
LOCATION:16 к. 201
END:VEVENT
BEGIN:VEVENT
UID:uq3b@192.168.245.71:3006
SEQUENCE:0
DTSTAMP:20260425T224148Z
DTSTART:20251107T130000Z
DTEND:20251107T144000Z
SUMMARY:Китайский язык
LOCATION:16 к. 201
END:VEVENT
END:VCALENDAR