BEGIN:VCALENDAR
VERSION:2.0
PRODID:-//spbstu.ru//ical//RU
NAME:Расписание
X-WR-CALNAME:Расписание
TIMEZONE-ID:Europe/Moscow
X-WR-TIMEZONE:Europe/Moscow
BEGIN:VEVENT
UID:mdhh@192.168.245.71:3006
SEQUENCE:0
DTSTAMP:20260425T133941Z
DTSTART:20251202T070000Z
DTEND:20251202T084000Z
SUMMARY:Зарубежная литература
LOCATION:16 к. 515
END:VEVENT
BEGIN:VEVENT
UID:zv4m@192.168.245.71:3006
SEQUENCE:0
DTSTAMP:20260425T133941Z
DTSTART:20251202T090000Z
DTEND:20251202T104000Z
SUMMARY:История книжного дела
LOCATION:16 к. 214
END:VEVENT
BEGIN:VEVENT
UID:axq0@192.168.245.71:3006
SEQUENCE:0
DTSTAMP:20260425T133941Z
DTSTART:20251202T110000Z
DTEND:20251202T124000Z
SUMMARY:История книжного дела
LOCATION:16 к. 200
END:VEVENT
BEGIN:VEVENT
UID:dqw6@192.168.245.71:3006
SEQUENCE:0
DTSTAMP:20260425T133941Z
DTSTART:20251203T070000Z
DTEND:20251203T084000Z
SUMMARY:Стандарты в книжном деле
LOCATION:16 к. 214
END:VEVENT
BEGIN:VEVENT
UID:nghn@192.168.245.71:3006
SEQUENCE:0
DTSTAMP:20260425T133941Z
DTSTART:20251203T090000Z
DTEND:20251203T104000Z
SUMMARY:Аппарат издания
LOCATION:16 к. 215
END:VEVENT
BEGIN:VEVENT
UID:00c4@192.168.245.71:3006
SEQUENCE:0
DTSTAMP:20260425T133941Z
DTSTART:20251203T110000Z
DTEND:20251203T124000Z
SUMMARY:Аппарат издания
LOCATION:16 к. 214
END:VEVENT
BEGIN:VEVENT
UID:x6ik@192.168.245.71:3006
SEQUENCE:0
DTSTAMP:20260425T133941Z
DTSTART:20251203T130000Z
DTEND:20251203T144000Z
SUMMARY:Аппарат издания
LOCATION:16 к. 215
END:VEVENT
BEGIN:VEVENT
UID:2qks@192.168.245.71:3006
SEQUENCE:0
DTSTAMP:20260425T133941Z
DTSTART:20251204T070000Z
DTEND:20251204T084000Z
SUMMARY:Введение в профессиональную деятельность
LOCATION:16 к. 214
END:VEVENT
BEGIN:VEVENT
UID:wxxz@192.168.245.71:3006
SEQUENCE:0
DTSTAMP:20260425T133941Z
DTSTART:20251204T090000Z
DTEND:20251204T104000Z
SUMMARY:Введение в профессиональную деятельность
LOCATION:16 к. 214
END:VEVENT
BEGIN:VEVENT
UID:35km@192.168.245.71:3006
SEQUENCE:0
DTSTAMP:20260425T133941Z
DTSTART:20251204T110000Z
DTEND:20251204T124000Z
SUMMARY:Зарубежная литература
LOCATION:16 к. 214
END:VEVENT
BEGIN:VEVENT
UID:jgj8@192.168.245.71:3006
SEQUENCE:0
DTSTAMP:20260425T133941Z
DTSTART:20251205T090000Z
DTEND:20251205T104000Z
SUMMARY:Современное книжное дело
LOCATION:16 к. 215
END:VEVENT
BEGIN:VEVENT
UID:2wg1@192.168.245.71:3006
SEQUENCE:0
DTSTAMP:20260425T133941Z
DTSTART:20251205T110000Z
DTEND:20251205T124000Z
SUMMARY:Современное книжное дело
LOCATION:16 к. 215
END:VEVENT
BEGIN:VEVENT
UID:maui@192.168.245.71:3006
SEQUENCE:0
DTSTAMP:20260425T133941Z
DTSTART:20251206T070000Z
DTEND:20251206T084000Z
SUMMARY:Аппарат издания
LOCATION:16 к. 210
END:VEVENT
BEGIN:VEVENT
UID:pocj@192.168.245.71:3006
SEQUENCE:0
DTSTAMP:20260425T133941Z
DTSTART:20251206T090000Z
DTEND:20251206T104000Z
SUMMARY:Аппарат издания
LOCATION:16 к. 210
END:VEVENT
BEGIN:VEVENT
UID:ygkz@192.168.245.71:3006
SEQUENCE:0
DTSTAMP:20260425T133941Z
DTSTART:20251206T110000Z
DTEND:20251206T124000Z
SUMMARY:Аппарат издания
LOCATION:16 к. 210
END:VEVENT
BEGIN:VEVENT
UID:nlo2@192.168.245.71:3006
SEQUENCE:0
DTSTAMP:20260425T133941Z
DTSTART:20251206T130000Z
DTEND:20251206T144000Z
SUMMARY:Аппарат издания
LOCATION:16 к. 210
END:VEVENT
END:VCALENDAR