BEGIN:VCALENDAR
VERSION:2.0
PRODID:-//spbstu.ru//ical//RU
NAME:Расписание
X-WR-CALNAME:Расписание
TIMEZONE-ID:Europe/Moscow
X-WR-TIMEZONE:Europe/Moscow
BEGIN:VEVENT
UID:fi2q@192.168.245.71:3006
SEQUENCE:0
DTSTAMP:20260425T133925Z
DTSTART:20251209T070000Z
DTEND:20251209T084000Z
SUMMARY:Зарубежная литература
LOCATION:16 к. 515
END:VEVENT
BEGIN:VEVENT
UID:ojko@192.168.245.71:3006
SEQUENCE:0
DTSTAMP:20260425T133925Z
DTSTART:20251209T090000Z
DTEND:20251209T104000Z
SUMMARY:История книжного дела
LOCATION:16 к. 214
END:VEVENT
BEGIN:VEVENT
UID:ywv1@192.168.245.71:3006
SEQUENCE:0
DTSTAMP:20260425T133925Z
DTSTART:20251209T110000Z
DTEND:20251209T124000Z
SUMMARY:Зарубежная литература
LOCATION:16 к. 200
END:VEVENT
BEGIN:VEVENT
UID:4a1q@192.168.245.71:3006
SEQUENCE:0
DTSTAMP:20260425T133925Z
DTSTART:20251210T070000Z
DTEND:20251210T084000Z
SUMMARY:Стандарты в книжном деле
LOCATION:16 к. 214
END:VEVENT
BEGIN:VEVENT
UID:123r@192.168.245.71:3006
SEQUENCE:0
DTSTAMP:20260425T133925Z
DTSTART:20251210T090000Z
DTEND:20251210T104000Z
SUMMARY:Аппарат издания
LOCATION:16 к. 215
END:VEVENT
BEGIN:VEVENT
UID:1q29@192.168.245.71:3006
SEQUENCE:0
DTSTAMP:20260425T133925Z
DTSTART:20251210T110000Z
DTEND:20251210T124000Z
SUMMARY:Аппарат издания
LOCATION:16 к. 214
END:VEVENT
BEGIN:VEVENT
UID:yguz@192.168.245.71:3006
SEQUENCE:0
DTSTAMP:20260425T133925Z
DTSTART:20251210T130000Z
DTEND:20251210T144000Z
SUMMARY:Аппарат издания
LOCATION:16 к. 215
END:VEVENT
BEGIN:VEVENT
UID:dg7j@192.168.245.71:3006
SEQUENCE:0
DTSTAMP:20260425T133925Z
DTSTART:20251211T090000Z
DTEND:20251211T104000Z
SUMMARY:Введение в профессиональную деятельность
LOCATION:16 к. 214
END:VEVENT
BEGIN:VEVENT
UID:9om9@192.168.245.71:3006
SEQUENCE:0
DTSTAMP:20260425T133925Z
DTSTART:20251212T090000Z
DTEND:20251212T104000Z
SUMMARY:Современное книжное дело
LOCATION:16 к. 215
END:VEVENT
BEGIN:VEVENT
UID:7lj4@192.168.245.71:3006
SEQUENCE:0
DTSTAMP:20260425T133925Z
DTSTART:20251212T110000Z
DTEND:20251212T124000Z
SUMMARY:Современное книжное дело
LOCATION:16 к. 215
END:VEVENT
BEGIN:VEVENT
UID:hk2h@192.168.245.71:3006
SEQUENCE:0
DTSTAMP:20260425T133925Z
DTSTART:20251213T070000Z
DTEND:20251213T084000Z
SUMMARY:Современное книжное дело
LOCATION:16 к. 215
END:VEVENT
BEGIN:VEVENT
UID:trk4@192.168.245.71:3006
SEQUENCE:0
DTSTAMP:20260425T133925Z
DTSTART:20251213T090000Z
DTEND:20251213T104000Z
SUMMARY:Современное книжное дело
LOCATION:16 к. 215
END:VEVENT
END:VCALENDAR