BEGIN:VCALENDAR
VERSION:2.0
PRODID:-//spbstu.ru//ical//RU
NAME:Расписание
X-WR-CALNAME:Расписание
TIMEZONE-ID:Europe/Moscow
X-WR-TIMEZONE:Europe/Moscow
BEGIN:VEVENT
UID:5fdj@192.168.245.71:3006
SEQUENCE:0
DTSTAMP:20260423T205549Z
DTSTART:20260210T090000Z
DTEND:20260210T104000Z
SUMMARY:Практическое редактирование
LOCATION:16 к. 215
END:VEVENT
BEGIN:VEVENT
UID:r8yf@192.168.245.71:3006
SEQUENCE:0
DTSTAMP:20260423T205549Z
DTSTART:20260210T110000Z
DTEND:20260210T124000Z
SUMMARY:Архитектоника издания
LOCATION:16 к. 215
END:VEVENT
BEGIN:VEVENT
UID:tj8s@192.168.245.71:3006
SEQUENCE:0
DTSTAMP:20260423T205549Z
DTSTART:20260211T070000Z
DTEND:20260211T084000Z
SUMMARY:Редакторская подготовка изданий
LOCATION:16 к. 200
END:VEVENT
BEGIN:VEVENT
UID:gcrt@192.168.245.71:3006
SEQUENCE:0
DTSTAMP:20260423T205549Z
DTSTART:20260211T090000Z
DTEND:20260211T104000Z
SUMMARY:Редакторская подготовка изданий
LOCATION:16 к. 510
END:VEVENT
BEGIN:VEVENT
UID:der5@192.168.245.71:3006
SEQUENCE:0
DTSTAMP:20260423T205549Z
DTSTART:20260211T110000Z
DTEND:20260211T124000Z
SUMMARY:Редакторская подготовка изданий
LOCATION:16 к. 510
END:VEVENT
BEGIN:VEVENT
UID:huh8@192.168.245.71:3006
SEQUENCE:0
DTSTAMP:20260423T205549Z
DTSTART:20260211T130000Z
DTEND:20260211T144000Z
SUMMARY:Редакторская подготовка изданий
LOCATION:16 к. 510
END:VEVENT
BEGIN:VEVENT
UID:j702@192.168.245.71:3006
SEQUENCE:0
DTSTAMP:20260423T205549Z
DTSTART:20260212T110000Z
DTEND:20260212T124000Z
SUMMARY:Архитектоника издания
LOCATION:16 к. 121
END:VEVENT
BEGIN:VEVENT
UID:sug8@192.168.245.71:3006
SEQUENCE:0
DTSTAMP:20260423T205549Z
DTSTART:20260212T130000Z
DTEND:20260212T144000Z
SUMMARY:Архитектоника издания
LOCATION:16 к. 213
END:VEVENT
BEGIN:VEVENT
UID:qvv6@192.168.245.71:3006
SEQUENCE:0
DTSTAMP:20260423T205549Z
DTSTART:20260213T110000Z
DTEND:20260213T124000Z
SUMMARY:Зарубежная литература
LOCATION:16 к. 514
END:VEVENT
BEGIN:VEVENT
UID:f4ue@192.168.245.71:3006
SEQUENCE:0
DTSTAMP:20260423T205549Z
DTSTART:20260213T130000Z
DTEND:20260213T144000Z
SUMMARY:Зарубежная литература
LOCATION:16 к. 514
END:VEVENT
BEGIN:VEVENT
UID:313t@192.168.245.71:3006
SEQUENCE:0
DTSTAMP:20260423T205549Z
DTSTART:20260214T070000Z
DTEND:20260214T084000Z
SUMMARY:Зарубежная литература
LOCATION:16 к. 515
END:VEVENT
BEGIN:VEVENT
UID:dze9@192.168.245.71:3006
SEQUENCE:0
DTSTAMP:20260423T205549Z
DTSTART:20260214T090000Z
DTEND:20260214T104000Z
SUMMARY:Зарубежная литература
LOCATION:16 к. 515
END:VEVENT
BEGIN:VEVENT
UID:hg39@192.168.245.71:3006
SEQUENCE:0
DTSTAMP:20260423T205549Z
DTSTART:20260214T110000Z
DTEND:20260214T124000Z
SUMMARY:Редакторская подготовка изданий
LOCATION:16 к. 515
END:VEVENT
END:VCALENDAR