BEGIN:VCALENDAR
VERSION:2.0
PRODID:-//spbstu.ru//ical//RU
NAME:Расписание
X-WR-CALNAME:Расписание
TIMEZONE-ID:Europe/Moscow
X-WR-TIMEZONE:Europe/Moscow
BEGIN:VEVENT
UID:0yis@192.168.245.71:3006
SEQUENCE:0
DTSTAMP:20260424T064448Z
DTSTART:20251211T070000Z
DTEND:20251211T084000Z
SUMMARY:Семинар по УТС
LOCATION:2 к. 316
END:VEVENT
BEGIN:VEVENT
UID:qsfd@192.168.245.71:3006
SEQUENCE:0
DTSTAMP:20260424T064448Z
DTSTART:20251211T090000Z
DTEND:20251211T104000Z
SUMMARY:Управляемый термоядерный синтез
LOCATION:2 к. 331
END:VEVENT
BEGIN:VEVENT
UID:yudx@192.168.245.71:3006
SEQUENCE:0
DTSTAMP:20260424T064448Z
DTSTART:20251211T120000Z
DTEND:20251211T134000Z
SUMMARY:Семинар по УТС
LOCATION:2 к. 316
END:VEVENT
BEGIN:VEVENT
UID:a74k@192.168.245.71:3006
SEQUENCE:0
DTSTAMP:20260424T064448Z
DTSTART:20251211T140000Z
DTEND:20251211T154000Z
SUMMARY:Семинар по УТС
LOCATION:2 к. 316
END:VEVENT
END:VCALENDAR