BEGIN:VCALENDAR
VERSION:2.0
PRODID:-//spbstu.ru//ical//RU
NAME:Расписание
X-WR-CALNAME:Расписание
TIMEZONE-ID:Europe/Moscow
X-WR-TIMEZONE:Europe/Moscow
BEGIN:VEVENT
UID:9l0u@192.168.245.71:3006
SEQUENCE:0
DTSTAMP:20260421T150036Z
DTSTART:20260421T110000Z
DTEND:20260421T124000Z
SUMMARY:Функциональный анализ и управление
LOCATION:3 к. 506
END:VEVENT
BEGIN:VEVENT
UID:nr0w@192.168.245.71:3006
SEQUENCE:0
DTSTAMP:20260421T150036Z
DTSTART:20260421T130000Z
DTEND:20260421T144000Z
SUMMARY:Функциональный анализ и управление
LOCATION:3 к. 506
END:VEVENT
BEGIN:VEVENT
UID:avsr@192.168.245.71:3006
SEQUENCE:0
DTSTAMP:20260421T150036Z
DTSTART:20260423T090000Z
DTEND:20260423T104000Z
SUMMARY:Математическое обеспечение информационных систем
LOCATION:3 к. 503
END:VEVENT
END:VCALENDAR