BEGIN:VCALENDAR
VERSION:2.0
PRODID:-//spbstu.ru//ical//RU
NAME:Расписание
X-WR-CALNAME:Расписание
TIMEZONE-ID:Europe/Moscow
X-WR-TIMEZONE:Europe/Moscow
BEGIN:VEVENT
UID:4bev@192.168.245.71:3006
SEQUENCE:0
DTSTAMP:20260425T153435Z
DTSTART:20250906T070000Z
DTEND:20250906T084000Z
SUMMARY:Энергосбережение и качество электрической энергии
LOCATION:Мех. к. 12
END:VEVENT
BEGIN:VEVENT
UID:11l8@192.168.245.71:3006
SEQUENCE:0
DTSTAMP:20260425T153435Z
DTSTART:20250906T090000Z
DTEND:20250906T104000Z
SUMMARY:Энергосбережение и качество электрической энергии
LOCATION:Мех. к. 12
END:VEVENT
BEGIN:VEVENT
UID:sr6y@192.168.245.71:3006
SEQUENCE:0
DTSTAMP:20260425T153435Z
DTSTART:20250906T110000Z
DTEND:20250906T124000Z
SUMMARY:Энергосбережение и качество электрической энергии
LOCATION:Мех. к. 12
END:VEVENT
END:VCALENDAR