BEGIN:VCALENDAR
VERSION:2.0
PRODID:-//spbstu.ru//ical//RU
NAME:Расписание
X-WR-CALNAME:Расписание
TIMEZONE-ID:Europe/Moscow
X-WR-TIMEZONE:Europe/Moscow
BEGIN:VEVENT
UID:1own@192.168.245.71:3006
SEQUENCE:0
DTSTAMP:20260425T152555Z
DTSTART:20250920T070000Z
DTEND:20250920T084000Z
SUMMARY:Энергосбережение и качество электрической энергии
LOCATION:Мех. к. 12
END:VEVENT
BEGIN:VEVENT
UID:ixok@192.168.245.71:3006
SEQUENCE:0
DTSTAMP:20260425T152555Z
DTSTART:20250920T090000Z
DTEND:20250920T104000Z
SUMMARY:Энергосбережение и качество электрической энергии
LOCATION:Мех. к. 12
END:VEVENT
BEGIN:VEVENT
UID:clrh@192.168.245.71:3006
SEQUENCE:0
DTSTAMP:20260425T152555Z
DTSTART:20250920T110000Z
DTEND:20250920T124000Z
SUMMARY:Энергосбережение и качество электрической энергии
LOCATION:Мех. к. 12
END:VEVENT
END:VCALENDAR