BEGIN:VCALENDAR
VERSION:2.0
PRODID:-//spbstu.ru//ical//RU
NAME:Расписание
X-WR-CALNAME:Расписание
TIMEZONE-ID:Europe/Moscow
X-WR-TIMEZONE:Europe/Moscow
BEGIN:VEVENT
UID:sybm@192.168.245.71:3006
SEQUENCE:0
DTSTAMP:20260421T182333Z
DTSTART:20260403T090000Z
DTEND:20260403T104000Z
SUMMARY:Электропривод
LOCATION:Мех. к. 9
END:VEVENT
BEGIN:VEVENT
UID:h8rb@192.168.245.71:3006
SEQUENCE:0
DTSTAMP:20260421T182333Z
DTSTART:20260403T110000Z
DTEND:20260403T124000Z
SUMMARY:Электропривод
LOCATION:Мех. к. 12
END:VEVENT
BEGIN:VEVENT
UID:i6g8@192.168.245.71:3006
SEQUENCE:0
DTSTAMP:20260421T182333Z
DTSTART:20260404T070000Z
DTEND:20260404T084000Z
SUMMARY:Применение численных методов в электроэнергетике
LOCATION:Мех. к. 12
END:VEVENT
BEGIN:VEVENT
UID:j31j@192.168.245.71:3006
SEQUENCE:0
DTSTAMP:20260421T182333Z
DTSTART:20260404T090000Z
DTEND:20260404T104000Z
SUMMARY:Передача и распределение электрической энергии
LOCATION:Мех. к. 10
END:VEVENT
BEGIN:VEVENT
UID:1enm@192.168.245.71:3006
SEQUENCE:0
DTSTAMP:20260421T182333Z
DTSTART:20260404T110000Z
DTEND:20260404T124000Z
SUMMARY:Передача и распределение электрической энергии
LOCATION:Мех. к. 10
END:VEVENT
END:VCALENDAR