BEGIN:VCALENDAR
VERSION:2.0
PRODID:-//spbstu.ru//ical//RU
NAME:Расписание
X-WR-CALNAME:Расписание
TIMEZONE-ID:Europe/Moscow
X-WR-TIMEZONE:Europe/Moscow
BEGIN:VEVENT
UID:9eb0@192.168.245.71:3006
SEQUENCE:0
DTSTAMP:20260424T215357Z
DTSTART:20251008T070000Z
DTEND:20251008T084000Z
SUMMARY:Администрирование информационных систем
LOCATION:11 к. 241
END:VEVENT
BEGIN:VEVENT
UID:y346@192.168.245.71:3006
SEQUENCE:0
DTSTAMP:20260424T215357Z
DTSTART:20251008T090000Z
DTEND:20251008T104000Z
SUMMARY:Администрирование информационных систем
LOCATION:11 к. 241
END:VEVENT
BEGIN:VEVENT
UID:nf0l@192.168.245.71:3006
SEQUENCE:0
DTSTAMP:20260424T215357Z
DTSTART:20251008T110000Z
DTEND:20251008T124000Z
SUMMARY:Администрирование информационных систем
LOCATION:11 к. 241
END:VEVENT
BEGIN:VEVENT
UID:8utt@192.168.245.71:3006
SEQUENCE:0
DTSTAMP:20260424T215357Z
DTSTART:20251009T090000Z
DTEND:20251009T104000Z
SUMMARY:Администрирование информационных систем
LOCATION:11 к. 148
END:VEVENT
END:VCALENDAR