BEGIN:VCALENDAR
VERSION:2.0
PRODID:-//spbstu.ru//ical//RU
NAME:Расписание
X-WR-CALNAME:Расписание
TIMEZONE-ID:Europe/Moscow
X-WR-TIMEZONE:Europe/Moscow
BEGIN:VEVENT
UID:zgbr@192.168.245.71:3006
SEQUENCE:0
DTSTAMP:20260422T140755Z
DTSTART:20260304T070000Z
DTEND:20260304T084000Z
SUMMARY:Администрирование информационных систем
LOCATION:11 к. 241
END:VEVENT
BEGIN:VEVENT
UID:svvq@192.168.245.71:3006
SEQUENCE:0
DTSTAMP:20260422T140755Z
DTSTART:20260304T090000Z
DTEND:20260304T104000Z
SUMMARY:Администрирование информационных систем
LOCATION:11 к. 241
END:VEVENT
BEGIN:VEVENT
UID:y4of@192.168.245.71:3006
SEQUENCE:0
DTSTAMP:20260422T140755Z
DTSTART:20260304T110000Z
DTEND:20260304T124000Z
SUMMARY:Администрирование информационных систем
LOCATION:11 к. 241
END:VEVENT
BEGIN:VEVENT
UID:ttq7@192.168.245.71:3006
SEQUENCE:0
DTSTAMP:20260422T140755Z
DTSTART:20260304T130000Z
DTEND:20260304T144000Z
SUMMARY:Администрирование информационных систем
LOCATION:11 к. 102
END:VEVENT
END:VCALENDAR