BEGIN:VCALENDAR
VERSION:2.0
PRODID:-//spbstu.ru//ical//RU
NAME:Расписание
X-WR-CALNAME:Расписание
TIMEZONE-ID:Europe/Moscow
X-WR-TIMEZONE:Europe/Moscow
BEGIN:VEVENT
UID:mj3n@192.168.245.71:3006
SEQUENCE:0
DTSTAMP:20260423T150410Z
DTSTART:20251124T050000Z
DTEND:20251124T064000Z
SUMMARY:Математическая логика
LOCATION:3 к. 111
END:VEVENT
BEGIN:VEVENT
UID:7xed@192.168.245.71:3006
SEQUENCE:0
DTSTAMP:20260423T150410Z
DTSTART:20251124T070000Z
DTEND:20251124T084000Z
SUMMARY:Математическая логика
LOCATION:3 к. 111
END:VEVENT
BEGIN:VEVENT
UID:5rsz@192.168.245.71:3006
SEQUENCE:0
DTSTAMP:20260423T150410Z
DTSTART:20251124T110000Z
DTEND:20251124T124000Z
SUMMARY:Математическая логика
LOCATION:3 к. 205
END:VEVENT
BEGIN:VEVENT
UID:xxez@192.168.245.71:3006
SEQUENCE:0
DTSTAMP:20260423T150410Z
DTSTART:20251125T070000Z
DTEND:20251125T084000Z
SUMMARY:Верификация распределенных алгоритмов и систем
LOCATION:3 к. 216
END:VEVENT
BEGIN:VEVENT
UID:bk6f@192.168.245.71:3006
SEQUENCE:0
DTSTAMP:20260423T150410Z
DTSTART:20251125T090000Z
DTEND:20251125T104000Z
SUMMARY:Верификация распределенных алгоритмов и систем
LOCATION:11 к. 148
END:VEVENT
BEGIN:VEVENT
UID:3zjd@192.168.245.71:3006
SEQUENCE:0
DTSTAMP:20260423T150410Z
DTSTART:20251125T110000Z
DTEND:20251125T124000Z
SUMMARY:Верификация распределенных алгоритмов и систем
LOCATION:3 к. 216
END:VEVENT
BEGIN:VEVENT
UID:sjt7@192.168.245.71:3006
SEQUENCE:0
DTSTAMP:20260423T150410Z
DTSTART:20251125T130000Z
DTEND:20251125T144000Z
SUMMARY:Верификация распределенных алгоритмов и систем
LOCATION:3 к. 107
END:VEVENT
BEGIN:VEVENT
UID:mduf@192.168.245.71:3006
SEQUENCE:0
DTSTAMP:20260423T150410Z
DTSTART:20251126T090000Z
DTEND:20251126T104000Z
SUMMARY:Математическая логика
LOCATION:3 к. 210
END:VEVENT
BEGIN:VEVENT
UID:0iin@192.168.245.71:3006
SEQUENCE:0
DTSTAMP:20260423T150410Z
DTSTART:20251126T110000Z
DTEND:20251126T124000Z
SUMMARY:Верификация распределенных алгоритмов и систем
LOCATION:3 к. 216
END:VEVENT
BEGIN:VEVENT
UID:5hmx@192.168.245.71:3006
SEQUENCE:0
DTSTAMP:20260423T150410Z
DTSTART:20251126T130000Z
DTEND:20251126T144000Z
SUMMARY:Верификация распределенных алгоритмов и систем
LOCATION:3 к. 111
END:VEVENT
END:VCALENDAR