BEGIN:VCALENDAR
VERSION:2.0
PRODID:-//spbstu.ru//ical//RU
NAME:Расписание
X-WR-CALNAME:Расписание
TIMEZONE-ID:Europe/Moscow
X-WR-TIMEZONE:Europe/Moscow
BEGIN:VEVENT
UID:b36k@192.168.245.71:3006
SEQUENCE:0
DTSTAMP:20260425T195221Z
DTSTART:20250915T110000Z
DTEND:20250915T124000Z
SUMMARY:Математическая логика
LOCATION:3 к. 102
END:VEVENT
BEGIN:VEVENT
UID:bm3t@192.168.245.71:3006
SEQUENCE:0
DTSTAMP:20260425T195221Z
DTSTART:20250915T130000Z
DTEND:20250915T144000Z
SUMMARY:Основы объектно-ориентированного моделирования
LOCATION:3 к. 310
END:VEVENT
BEGIN:VEVENT
UID:z9sk@192.168.245.71:3006
SEQUENCE:0
DTSTAMP:20260425T195221Z
DTSTART:20250915T150000Z
DTEND:20250915T164000Z
SUMMARY:Распределенные алгоритмы
LOCATION:3 к. 104
END:VEVENT
BEGIN:VEVENT
UID:daw1@192.168.245.71:3006
SEQUENCE:0
DTSTAMP:20260425T195221Z
DTSTART:20250915T150000Z
DTEND:20250915T164000Z
SUMMARY:Распределенные алгоритмы
LOCATION:3 к. 104
END:VEVENT
BEGIN:VEVENT
UID:9rzz@192.168.245.71:3006
SEQUENCE:0
DTSTAMP:20260425T195221Z
DTSTART:20250916T070000Z
DTEND:20250916T084000Z
SUMMARY:Верификация распределенных алгоритмов и систем
LOCATION:3 к. 216
END:VEVENT
BEGIN:VEVENT
UID:vzvd@192.168.245.71:3006
SEQUENCE:0
DTSTAMP:20260425T195221Z
DTSTART:20250916T090000Z
DTEND:20250916T104000Z
SUMMARY:Верификация распределенных алгоритмов и систем
LOCATION:11 к. 148
END:VEVENT
BEGIN:VEVENT
UID:q8ce@192.168.245.71:3006
SEQUENCE:0
DTSTAMP:20260425T195221Z
DTSTART:20250916T110000Z
DTEND:20250916T124000Z
SUMMARY:Верификация распределенных алгоритмов и систем
LOCATION:3 к. 107
END:VEVENT
BEGIN:VEVENT
UID:x8iw@192.168.245.71:3006
SEQUENCE:0
DTSTAMP:20260425T195221Z
DTSTART:20250916T130000Z
DTEND:20250916T144000Z
SUMMARY:Верификация распределенных алгоритмов и систем
LOCATION:3 к. 111
END:VEVENT
BEGIN:VEVENT
UID:fup4@192.168.245.71:3006
SEQUENCE:0
DTSTAMP:20260425T195221Z
DTSTART:20250917T110000Z
DTEND:20250917T124000Z
SUMMARY:Верификация распределенных алгоритмов и систем
LOCATION:3 к. 216
END:VEVENT
BEGIN:VEVENT
UID:u24w@192.168.245.71:3006
SEQUENCE:0
DTSTAMP:20260425T195221Z
DTSTART:20250917T130000Z
DTEND:20250917T144000Z
SUMMARY:Верификация распределенных алгоритмов и систем
LOCATION:3 к. 107
END:VEVENT
END:VCALENDAR