BEGIN:VCALENDAR
VERSION:2.0
PRODID:-//spbstu.ru//ical//RU
NAME:Расписание
X-WR-CALNAME:Расписание
TIMEZONE-ID:Europe/Moscow
X-WR-TIMEZONE:Europe/Moscow
BEGIN:VEVENT
UID:j2cm@192.168.245.71:3006
SEQUENCE:0
DTSTAMP:20260421T150542Z
DTSTART:20260616T070000Z
DTEND:20260616T074500Z
SUMMARY:Рисунок
LOCATION:ГЗ 314
END:VEVENT
BEGIN:VEVENT
UID:6kv0@192.168.245.71:3006
SEQUENCE:0
DTSTAMP:20260421T150542Z
DTSTART:20260617T070000Z
DTEND:20260617T110000Z
SUMMARY:Рисунок
LOCATION:ГЗ 314
END:VEVENT
END:VCALENDAR