BEGIN:VCALENDAR
VERSION:2.0
PRODID:-//spbstu.ru//ical//RU
NAME:Расписание
X-WR-CALNAME:Расписание
TIMEZONE-ID:Europe/Moscow
X-WR-TIMEZONE:Europe/Moscow
BEGIN:VEVENT
UID:ju4s@192.168.245.71:3006
SEQUENCE:0
DTSTAMP:20260425T191519Z
DTSTART:20251013T150000Z
DTEND:20251013T164000Z
SUMMARY:Архитектура предприятия
LOCATION:50 уч.к 1103
END:VEVENT
BEGIN:VEVENT
UID:5qvh@192.168.245.71:3006
SEQUENCE:0
DTSTAMP:20260425T191519Z
DTSTART:20251013T170000Z
DTEND:20251013T184000Z
SUMMARY:Архитектура предприятия
LOCATION:50 уч.к 1103
END:VEVENT
BEGIN:VEVENT
UID:xh8y@192.168.245.71:3006
SEQUENCE:0
DTSTAMP:20260425T191519Z
DTSTART:20251015T070000Z
DTEND:20251015T084000Z
SUMMARY:Управление ИТ-сервисами
LOCATION:50 уч.к 1231
END:VEVENT
BEGIN:VEVENT
UID:8qyl@192.168.245.71:3006
SEQUENCE:0
DTSTAMP:20260425T191519Z
DTSTART:20251015T090000Z
DTEND:20251015T104000Z
SUMMARY:Управление ИТ-сервисами
LOCATION:50 уч.к 1231
END:VEVENT
BEGIN:VEVENT
UID:t34x@192.168.245.71:3006
SEQUENCE:0
DTSTAMP:20260425T191519Z
DTSTART:20251015T110000Z
DTEND:20251015T124000Z
SUMMARY:Управление ИТ-сервисами
LOCATION:50 уч.к 1231
END:VEVENT
BEGIN:VEVENT
UID:2i5r@192.168.245.71:3006
SEQUENCE:0
DTSTAMP:20260425T191519Z
DTSTART:20251016T070000Z
DTEND:20251016T084000Z
SUMMARY:Управление сервисами электронного и мобильного бизнеса
LOCATION:50 уч.к 1219
END:VEVENT
BEGIN:VEVENT
UID:dsnx@192.168.245.71:3006
SEQUENCE:0
DTSTAMP:20260425T191519Z
DTSTART:20251016T110000Z
DTEND:20251016T124000Z
SUMMARY:Управление ИТ-сервисами
LOCATION:50 уч.к 1432
END:VEVENT
END:VCALENDAR