BEGIN:VCALENDAR
VERSION:2.0
PRODID:-//spbstu.ru//ical//RU
NAME:Расписание
X-WR-CALNAME:Расписание
TIMEZONE-ID:Europe/Moscow
X-WR-TIMEZONE:Europe/Moscow
BEGIN:VEVENT
UID:kd2c@192.168.245.71:3006
SEQUENCE:0
DTSTAMP:20260424T155535Z
DTSTART:20251222T150000Z
DTEND:20251222T164000Z
SUMMARY:Архитектура предприятия
LOCATION:50 уч.к 1205
END:VEVENT
BEGIN:VEVENT
UID:wlhg@192.168.245.71:3006
SEQUENCE:0
DTSTAMP:20260424T155535Z
DTSTART:20251222T170000Z
DTEND:20251222T184000Z
SUMMARY:Архитектура предприятия
LOCATION:50 уч.к 1205
END:VEVENT
END:VCALENDAR