BEGIN:VCALENDAR
VERSION:2.0
PRODID:-//spbstu.ru//ical//RU
NAME:Расписание
X-WR-CALNAME:Расписание
TIMEZONE-ID:Europe/Moscow
X-WR-TIMEZONE:Europe/Moscow
BEGIN:VEVENT
UID:w2pu@192.168.245.71:3006
SEQUENCE:0
DTSTAMP:20260422T190336Z
DTSTART:20260302T090000Z
DTEND:20260302T104000Z
SUMMARY:Архитектура предприятия
LOCATION:50 уч.к 1341
END:VEVENT
BEGIN:VEVENT
UID:0nav@192.168.245.71:3006
SEQUENCE:0
DTSTAMP:20260422T190336Z
DTSTART:20260305T153000Z
DTEND:20260305T170000Z
SUMMARY:Управление ИТ-сервисами
LOCATION:50 уч.к 1103
END:VEVENT
BEGIN:VEVENT
UID:pb08@192.168.245.71:3006
SEQUENCE:0
DTSTAMP:20260422T190336Z
DTSTART:20260305T171500Z
DTEND:20260305T184500Z
SUMMARY:Управление ИТ-сервисами
LOCATION:50 уч.к 1103
END:VEVENT
BEGIN:VEVENT
UID:l04n@192.168.245.71:3006
SEQUENCE:0
DTSTAMP:20260422T190336Z
DTSTART:20260306T150000Z
DTEND:20260306T164000Z
SUMMARY:Сервис-ориентированные цифровые платформы (на английском языке)
LOCATION:50 уч.к 1210
END:VEVENT
BEGIN:VEVENT
UID:0xow@192.168.245.71:3006
SEQUENCE:0
DTSTAMP:20260422T190336Z
DTSTART:20260306T170000Z
DTEND:20260306T184000Z
SUMMARY:Сервис-ориентированные цифровые платформы (на английском языке)
LOCATION:50 уч.к 1210
END:VEVENT
END:VCALENDAR