BEGIN:VCALENDAR
VERSION:2.0
PRODID:-//spbstu.ru//ical//RU
NAME:Расписание
X-WR-CALNAME:Расписание
TIMEZONE-ID:Europe/Moscow
X-WR-TIMEZONE:Europe/Moscow
BEGIN:VEVENT
UID:nhsu@192.168.245.71:3006
SEQUENCE:0
DTSTAMP:20260421T194208Z
DTSTART:20260511T090000Z
DTEND:20260511T104000Z
SUMMARY:Архитектура предприятия
LOCATION:50 уч.к 1341
END:VEVENT
BEGIN:VEVENT
UID:b8yw@192.168.245.71:3006
SEQUENCE:0
DTSTAMP:20260421T194208Z
DTSTART:20260514T153000Z
DTEND:20260514T170000Z
SUMMARY:Управление ИТ-сервисами
LOCATION:50 уч.к 1103
END:VEVENT
BEGIN:VEVENT
UID:xq4e@192.168.245.71:3006
SEQUENCE:0
DTSTAMP:20260421T194208Z
DTSTART:20260514T171500Z
DTEND:20260514T184500Z
SUMMARY:Управление ИТ-сервисами
LOCATION:50 уч.к 1103
END:VEVENT
BEGIN:VEVENT
UID:h6wj@192.168.245.71:3006
SEQUENCE:0
DTSTAMP:20260421T194208Z
DTSTART:20260515T150000Z
DTEND:20260515T164000Z
SUMMARY:Сервис-ориентированные цифровые платформы (на английском языке)
LOCATION:50 уч.к 1210
END:VEVENT
END:VCALENDAR