BEGIN:VCALENDAR
VERSION:2.0
PRODID:-//spbstu.ru//ical//RU
NAME:Расписание
X-WR-CALNAME:Расписание
TIMEZONE-ID:Europe/Moscow
X-WR-TIMEZONE:Europe/Moscow
BEGIN:VEVENT
UID:58n9@192.168.245.71:3006
SEQUENCE:0
DTSTAMP:20260423T030323Z
DTSTART:20260109T070000Z
DTEND:20260109T120000Z
SUMMARY:История России
LOCATION:3 к. 209
END:VEVENT
BEGIN:VEVENT
UID:vlcf@192.168.245.71:3006
SEQUENCE:0
DTSTAMP:20260423T030323Z
DTSTART:20260109T080000Z
DTEND:20260109T130000Z
SUMMARY:История России
LOCATION:3 к. 209
END:VEVENT
BEGIN:VEVENT
UID:1bph@192.168.245.71:3006
SEQUENCE:0
DTSTAMP:20260423T030323Z
DTSTART:20260109T090000Z
DTEND:20260109T140000Z
SUMMARY:История России
LOCATION:3 к. 209
END:VEVENT
END:VCALENDAR