BEGIN:VCALENDAR
VERSION:2.0
PRODID:-//spbstu.ru//ical//RU
NAME:Расписание
X-WR-CALNAME:Расписание
TIMEZONE-ID:Europe/Moscow
X-WR-TIMEZONE:Europe/Moscow
BEGIN:VEVENT
UID:19sz@192.168.245.71:3006
SEQUENCE:0
DTSTAMP:20260422T121052Z
DTSTART:20260217T070000Z
DTEND:20260217T084000Z
SUMMARY:История России
LOCATION:11 к. 328
END:VEVENT
BEGIN:VEVENT
UID:sgi4@192.168.245.71:3006
SEQUENCE:0
DTSTAMP:20260422T121052Z
DTSTART:20260217T070000Z
DTEND:20260217T084000Z
SUMMARY:История России
LOCATION:11 к. 328
END:VEVENT
BEGIN:VEVENT
UID:rati@192.168.245.71:3006
SEQUENCE:0
DTSTAMP:20260422T121052Z
DTSTART:20260217T090000Z
DTEND:20260217T104000Z
SUMMARY:История России
LOCATION:11 к. 328
END:VEVENT
BEGIN:VEVENT
UID:hj7o@192.168.245.71:3006
SEQUENCE:0
DTSTAMP:20260422T121052Z
DTSTART:20260217T090000Z
DTEND:20260217T104000Z
SUMMARY:История России
LOCATION:11 к. 328
END:VEVENT
BEGIN:VEVENT
UID:zn16@192.168.245.71:3006
SEQUENCE:0
DTSTAMP:20260422T121052Z
DTSTART:20260217T110000Z
DTEND:20260217T124000Z
SUMMARY:История России
LOCATION:11 к. 328
END:VEVENT
BEGIN:VEVENT
UID:86n0@192.168.245.71:3006
SEQUENCE:0
DTSTAMP:20260422T121052Z
DTSTART:20260217T110000Z
DTEND:20260217T124000Z
SUMMARY:История России
LOCATION:11 к. 328
END:VEVENT
BEGIN:VEVENT
UID:h0ih@192.168.245.71:3006
SEQUENCE:0
DTSTAMP:20260422T121052Z
DTSTART:20260217T130000Z
DTEND:20260217T144000Z
SUMMARY:История России
LOCATION:11 к. 328
END:VEVENT
BEGIN:VEVENT
UID:2onj@192.168.245.71:3006
SEQUENCE:0
DTSTAMP:20260422T121052Z
DTSTART:20260217T130000Z
DTEND:20260217T144000Z
SUMMARY:История России
LOCATION:11 к. 328
END:VEVENT
BEGIN:VEVENT
UID:qs5j@192.168.245.71:3006
SEQUENCE:0
DTSTAMP:20260422T121052Z
DTSTART:20260219T070000Z
DTEND:20260219T084000Z
SUMMARY:История России
LOCATION:ГЗ 235
END:VEVENT
BEGIN:VEVENT
UID:2sq7@192.168.245.71:3006
SEQUENCE:0
DTSTAMP:20260422T121052Z
DTSTART:20260219T090000Z
DTEND:20260219T104000Z
SUMMARY:История России
LOCATION:9 к. 219
END:VEVENT
BEGIN:VEVENT
UID:99h9@192.168.245.71:3006
SEQUENCE:0
DTSTAMP:20260422T121052Z
DTSTART:20260219T110000Z
DTEND:20260219T124000Z
SUMMARY:История России
LOCATION:9 к. 219
END:VEVENT
BEGIN:VEVENT
UID:tthi@192.168.245.71:3006
SEQUENCE:0
DTSTAMP:20260422T121052Z
DTSTART:20260220T070000Z
DTEND:20260220T084000Z
SUMMARY:История России
LOCATION:9 к. 415
END:VEVENT
BEGIN:VEVENT
UID:gt55@192.168.245.71:3006
SEQUENCE:0
DTSTAMP:20260422T121052Z
DTSTART:20260220T090000Z
DTEND:20260220T104000Z
SUMMARY:История России
LOCATION:9 к. 217
END:VEVENT
BEGIN:VEVENT
UID:8o45@192.168.245.71:3006
SEQUENCE:0
DTSTAMP:20260422T121052Z
DTSTART:20260220T110000Z
DTEND:20260220T124000Z
SUMMARY:История России
LOCATION:9 к. 217
END:VEVENT
BEGIN:VEVENT
UID:t1y6@192.168.245.71:3006
SEQUENCE:0
DTSTAMP:20260422T121052Z
DTSTART:20260220T130000Z
DTEND:20260220T144000Z
SUMMARY:История России
LOCATION:11 к. 330
END:VEVENT
BEGIN:VEVENT
UID:c80s@192.168.245.71:3006
SEQUENCE:0
DTSTAMP:20260422T121052Z
DTSTART:20260221T090000Z
DTEND:20260221T104000Z
SUMMARY:История России
LOCATION:ГЗ 305
END:VEVENT
BEGIN:VEVENT
UID:c1lj@192.168.245.71:3006
SEQUENCE:0
DTSTAMP:20260422T121052Z
DTSTART:20260221T110000Z
DTEND:20260221T120000Z
SUMMARY:История России
LOCATION:ГЗ 281
END:VEVENT
END:VCALENDAR